BEGIN:VCALENDAR
VERSION:2.0
PRODID:-//Frame Center - ECPv6.2.9//NONSGML v1.0//EN
CALSCALE:GREGORIAN
METHOD:PUBLISH
X-ORIGINAL-URL:https://fc.native-gains.com
X-WR-CALDESC:Events for Frame Center
REFRESH-INTERVAL;VALUE=DURATION:PT1H
X-Robots-Tag:noindex
X-PUBLISHED-TTL:PT1H
BEGIN:VTIMEZONE
TZID:America/New_York
BEGIN:DAYLIGHT
TZOFFSETFROM:-0500
TZOFFSETTO:-0400
TZNAME:EDT
DTSTART:20250309T070000
END:DAYLIGHT
BEGIN:STANDARD
TZOFFSETFROM:-0400
TZOFFSETTO:-0500
TZNAME:EST
DTSTART:20251102T060000
END:STANDARD
END:VTIMEZONE
BEGIN:VEVENT
DTSTART;VALUE=DATE:20250503
DTEND;VALUE=DATE:20250901
DTSTAMP:20260423T134643
CREATED:20250503T211712Z
LAST-MODIFIED:20250503T211750Z
UID:10000951-1746230400-1756684799@fc.native-gains.com
SUMMARY:Monotype Guild of New England: 40 Years of Unique Prints
DESCRIPTION:Monotype Guild of New England:\n40 Years of Unique Prints\n(40th Anniversary Exhibit\, Sixth National Juried Exhibition)\nThrough August 31\, 2025\nReception: May 11\, 2025\, 1:00 – 4:00 pm\n \n\nFor four decades\, the Monotype Guild of New England has championed the art of the\nmonotype and monoprint\, fostering a vibrant community of printmakers dedicated to the\nexpressive potential of one-of-a-kind prints. MGNE celebrates this milestone with\nMonotype Guild of New England: 40 Years of Unique Prints\, a national juried exhibition\nshowcasing the breadth and innovation of contemporary printmaking. \nFeaturing works from 73 artists across the United States\, this exhibition highlights the\ndynamic and ever-evolving nature of monotype—a process that embraces spontaneity\,\nexperimentation\, and individuality. Unlike traditional printmaking techniques that\nproduce multiples\, monotypes and monoprints yield singular impressions\, making each\nprint a distinctive exploration of form\, texture\, and color. This exhibition exemplifies how\ntraditional printmaking techniques can be reimagined in a contemporary context. \nInternationally acclaimed printmaker\, Karen Kunc’s expertise and artistic vision make\nher uniquely qualified as juror for this exhibition. She selected the prints in the exhibition\nfrom 645 works submitted by 238 artists. Kunc is Cather Professor Emerita of the\nUniversity of Nebraska-Lincoln where she taught from 1983-2020. Her many accolades\ninclude a Guggenheim Fellowship\, Fulbright Scholar Awards to Finland and\nBangladesh\, two NEA/MAAA awards\, and the 2007 Southern Graphics Council\nInternational Printmaker Emeritus Award.
URL:https://fc.native-gains.com/event/monotype-guild-of-new-england-40-years-of-unique-prints/
LOCATION:The Art Complex Museum\, 189 Alden Street\, Duxbury\, 02332\, United States
CATEGORIES:Local Shows
ATTACH;FMTTYPE=image/jpeg:https://fc.native-gains.com/wp-content/uploads/2025/05/Nanette-Wallace_Red_2025-450x652-1.jpeg
END:VEVENT
BEGIN:VEVENT
DTSTART;VALUE=DATE:20250504
DTEND;VALUE=DATE:20250901
DTSTAMP:20260423T134643
CREATED:20250115T192447Z
LAST-MODIFIED:20250128T191837Z
UID:10000858-1746316800-1756684799@fc.native-gains.com
SUMMARY:Monotype Guild of New England 40th Anniversary Exhibit
DESCRIPTION:Monotype Guild of New England:\n40 Years of Unique Prints\n(40th Anniversary Exhibit\, Sixth National Juried Exhibition)\nMay 4 – August 31\, 2025\nReception: May 11\, 2025\, 1:00 – 4:00 pm\n \n\nIn celebration of its 40th anniversary\, and the expansive vision of monotype and monoprint artists throughout the United States\, the Monotype Guild of New England (MGNE) will hold its Sixth National Juried Exhibition at the Art Complex Museum. \n\n\nThe juror\, Karen Kunc\, is an internationally-known artist\, teacher\, and curator who will put together a superlative show that will present the nation’s best monotype and monoprint art. \n\n\nThe exhibit will celebrate the very best of the unique print in all its myriad and modern forms\, from works on paper\, to sculpture and mixed media\, ranging in size from intimate to larger-scale installations. \n\n\n“We are so thrilled to be returning to the Art Complex Museum during this\, our 40th Anniversary year\,” says president Rebecca Leopoldina Torres. “This exceptional gathering of work deserves to be shown in a space where it can be fully enjoyed.” \n\n\nFounded in 1985 by a small group of New England artists\, MGNE now has a national membership of more than 300 artists and has curated over 100 exhibitions.
URL:https://fc.native-gains.com/event/monotype-guild-of-new-england-40th-anniversary-exhibit/
LOCATION:The Art Complex Museum\, 189 Alden Street\, Duxbury\, 02332\, United States
CATEGORIES:Local Shows
ATTACH;FMTTYPE=image/png:https://fc.native-gains.com/wp-content/uploads/2025/01/Art-Complex-Logo.png
END:VEVENT
BEGIN:VEVENT
DTSTART;TZID=America/New_York:20250504T000000
DTEND;TZID=America/New_York:20250831T235959
DTSTAMP:20260423T134643
CREATED:20250506T151719Z
LAST-MODIFIED:20250506T151719Z
UID:10000954-1746316800-1756684799@fc.native-gains.com
SUMMARY:Celebrating Sano Gofu: 50th Anniversary of Sho-fu-an
DESCRIPTION:Celebrating Sano Gofu:\n50th Anniversary of Sho-fu-an\n(Wind in the Pines Tea Hut)\nThrough August 31\, 2025\nReception: May 11\, 2025\, 1:00 – 4:00 pm\n \nThis exhibit displays the paintings\, sketches\, and architectural plans created by Japanese artist and designer\, Sano Gofu. Gofu also designed the museum’s tea hut\, Wind in the Pines (Shofuan). \nGofu created numerous watercolors of botanicals and locations in Japan\, as well as painted fans\, scrolls\, and screens. A student of the famous nihonga painter SeihōTakeuchi\, Gofu graduated from the Kyoto Municipal Arts and Crafts College. He became a sumi-e painter: a Zen painting technique that focuses on nature using ink washes\, ink brush and watercolor paint. \nThrough the years\, many of these works were given to the Weyerhaeusers and the Art Complex Museum’s collection now contains more than 70 objects by Gofu. \nThe exhibit includes about half of the paintings by Sano Gofu in the collection\, as well as photographs and drawings of the tea hut\, which demonstrate his design process. A painted screen that Gofu created is on view in the Founders Room. \nMuseum co-founders Carl and Edith Weyerhaeuser became friends with many of the consultants who guided them in amassing over 8\,000 objects that make up the Art Complex Museum collection. Kojiro Tomita\, Curator of Asian Arts for the Museum of Fine Arts Boston\, was among the first advisors the Weyerhaeusers got to know. Tomita helped to guide their selections of Asian arts and ceramics.
URL:https://fc.native-gains.com/event/celebrating-sano-gofu-50th-anniversary-of-sho-fu-an/
LOCATION:The Art Complex Museum\, 189 Alden Street\, Duxbury\, 02332\, United States
CATEGORIES:Local Shows
ATTACH;FMTTYPE=image/jpeg:https://fc.native-gains.com/wp-content/uploads/2025/05/Gofu_LotusFlowerandLeafACM_17_9_SM-600x494-1.jpeg
END:VEVENT
BEGIN:VEVENT
DTSTART;TZID=America/New_York:20250511T000000
DTEND;TZID=America/New_York:20250810T235959
DTSTAMP:20260423T134643
CREATED:20250320T152038Z
LAST-MODIFIED:20250320T152038Z
UID:10000910-1746921600-1754870399@fc.native-gains.com
SUMMARY:Duxbury Art Complex Museum - Tom Smith: Relics
DESCRIPTION:Tom Smith: RELICS\nMay 11 – August 10\, 2025\nReception: May 11\, 2025\, 1:00 – 4:00 pm\n \nRELICS showcases biomorphic\, home-grown sculptures and derivative paintings. Grapevine\, tree\, and shrub cuttings discarded for the season are used to immerse viewers in a transformational refuge of stillness designed to restore the way we perceive Nature. \nAbstract artworks suspended above\, sprouting below\, and attaching to walls evoke plant forms that coalesce to produce a serene counterbalance to the bustle of life. As a result\, the sculptures and paintings respond to one another like living things\, compelling viewers to participate. \nRepeated patterns intrinsic to each piece invoke a sense of calm and order. Strategic placement creates shadows that enfold the gallery and viewers\, spurring curiosity and contemplation. As the show title implies\, RELICS hints at the amplitude of possibilities for resurrecting overlooked remnants while offering a new aesthetic value as art.
URL:https://fc.native-gains.com/event/duxbury-art-complex-museum-tom-smith-relics/
LOCATION:The Art Complex Museum\, 189 Alden Street\, Duxbury\, 02332\, United States
CATEGORIES:Local Shows
ATTACH;FMTTYPE=image/jpeg:https://fc.native-gains.com/wp-content/uploads/2025/03/Tom_Smith_Far_Flung_SM-600x420-1.jpeg
END:VEVENT
BEGIN:VEVENT
DTSTART;TZID=America/New_York:20250606T000000
DTEND;TZID=America/New_York:20250829T235959
DTSTAMP:20260423T134643
CREATED:20250524T214312Z
LAST-MODIFIED:20250524T214312Z
UID:10000964-1749168000-1756511999@fc.native-gains.com
SUMMARY:"Summer Daze" at Savage Godfrey Gallery
DESCRIPTION:
URL:https://fc.native-gains.com/event/summer-daze-at-savage-godfrey-gallery/
LOCATION:Savage Godfrey Gallery\, 693 Main St\, Norwell\, MA\, 02061\, United States
CATEGORIES:Local Shows
ATTACH;FMTTYPE=image/jpeg:https://fc.native-gains.com/wp-content/uploads/2025/05/IMG_7711.jpg
END:VEVENT
BEGIN:VEVENT
DTSTART;TZID=America/New_York:20250616T000000
DTEND;TZID=America/New_York:20250912T235959
DTSTAMP:20260423T134643
CREATED:20250516T172643Z
LAST-MODIFIED:20250516T172643Z
UID:10000958-1750032000-1757721599@fc.native-gains.com
SUMMARY:108th Annual Art by the Bay Members Show
DESCRIPTION:108th Annual Art by the Bay \nMember Show\n\nThe Ellison Center for the Arts\, 64 St. George Street\, Duxbury\, MA\, \nJune 16 -September 12\, 2025. \nOpen Mon-Thurs\, 10am-5pm and Fridays 10am-1pm \nEvenings and Weekends by chance or by appointment. \nEmail info@duxburyart.org with any questions. \nDuxbury Art Association strives to support ‘the artist in everyone’. \n  \nView Prospectus Here for Entry
URL:https://fc.native-gains.com/event/108th-annual-art-by-the-bay-members-show/
LOCATION:Ellison Center for the Arts\, 64 St. George Street\, Duxbury\, MA\, United States
CATEGORIES:Local Shows
ATTACH;FMTTYPE=image/jpeg:https://fc.native-gains.com/wp-content/uploads/2025/05/Screen-Shot-2025-05-13-at-10.57.14-AM-e1747158711718.jpeg
END:VEVENT
BEGIN:VEVENT
DTSTART;TZID=America/New_York:20250701T000000
DTEND;TZID=America/New_York:20250831T235959
DTSTAMP:20260423T134643
CREATED:20250625T175147Z
LAST-MODIFIED:20250625T175147Z
UID:10000978-1751328000-1756684799@fc.native-gains.com
SUMMARY:Laura Harvey "Heat Wave"
DESCRIPTION:The Helen Bumpus Gallery presents\nLaura Harvey’s “Heat Wave”\n\nArtist Statement\nAs a mixed media artist\, I create intricately layered collages on a variety of substrates: from canvas and traditional birch panels to hollow-core doors. To intuitively create each piece\, I draw from an ever-evolving collection of media and vintage ephemera\, building layers using paint\, papers (found\, purchased and hand painted)\, acrylic mediums\, graphite\, photo transfers and more. I derive a storyteller’s satisfaction watching each piece evolve during the creative process – from the initial blur of an idea to a completed visual.
URL:https://fc.native-gains.com/event/laura-harvey-heat-wave/
LOCATION:Duxbury Free Library\, 77 Alden Street\, Duxbury\, MA\, 02231\, United States
CATEGORIES:Local Shows
ATTACH;FMTTYPE=image/jpeg:https://fc.native-gains.com/wp-content/uploads/2025/06/blinded-by-the-light-800-600-100.jpeg
END:VEVENT
BEGIN:VEVENT
DTSTART;TZID=America/New_York:20250701T080000
DTEND;TZID=America/New_York:20250928T170000
DTSTAMP:20260423T134643
CREATED:20250722T210756Z
LAST-MODIFIED:20250722T210756Z
UID:10000990-1751356800-1759078800@fc.native-gains.com
SUMMARY:Imperfect by Christine Marohn at South Shore Conservatory
DESCRIPTION:  \nSSAC presents “imperfect”\, a solo show of Christine Marohn’s glorious work.  On view at the South Shore Conservatory\, July 1st through September 28th. \n  \nArtist Statement\nMy painting is a reflection of my efforts to make something beautiful from a chaotic\, confusing and often insecure 30 years as a military wife and stay at home mother. \nI use words layered with translucent color to symbolize the calls I have always heard to return to art; the imposed self-criticism for letting painting go for so long; the insecurity I feel returning to it.I want the viewer to see a beautiful painting but continue to look deeper – to really see how my work is composed through courses of words\, color and personal autobiography. \nMy life has had many layers – many good\, colorful layers and experiences that has made me into who I am today\, an artist returning to herself. \nAbout the artist\nChristine is an artist working in her chosen home of Duxbury\, Massachusetts. She is a life-long artist with a degree in graphic design and illustration who enjoys using her classical training to create paintings that push color and illuminate the subconscious. Christine considers herself one of the lucky ones – among her greatest joys is the love for her husband\, EJ\, her grown and accomplished daughters Meaghan and Lauren as well as her delightful Havanese\, Pippa. \nPlease find her work on Instagram @christinemarohn
URL:https://fc.native-gains.com/event/imperfect-by-christine-marohn-at-south-shore-conservatory/
LOCATION:South Shore Conservatory\, 1 Conservatory Dr\, Hingham\, MA\, United States
CATEGORIES:Local Shows
ATTACH;FMTTYPE=image/jpeg:https://fc.native-gains.com/wp-content/uploads/2025/07/IMG_7886-2-e1753218084135.jpg
END:VEVENT
BEGIN:VEVENT
DTSTART;TZID=America/New_York:20250724T000000
DTEND;TZID=America/New_York:20250906T235959
DTSTAMP:20260423T134643
CREATED:20250729T210622Z
LAST-MODIFIED:20250729T210622Z
UID:10001002-1753315200-1757203199@fc.native-gains.com
SUMMARY:South Shore Art Center - Blue Ribbon Show
DESCRIPTION: Our Blue Ribbon Members’ Show\nJuly 24 – September 6:\nJudged by David Petty \nOwner of The Frame Center & Host of the ‘Inside the Frame’ podcast \n  \nSouth Shore Art Center’s Annual Blue Ribbon Members’ Show 2025 is currently on view in our Bancroft and Dillon Galleries\nVisit us in-person to see this lively and eclectic show. \nOpening Reception is Thursday\, July 24\, 6-8 pm\nFree & Open to the Public
URL:https://fc.native-gains.com/event/south-shore-art-center-blue-ribbon-show/
LOCATION:SSAC\, 119 Ripley Rd\, Cohasset\, MA\, United States
CATEGORIES:Local Shows
ATTACH;FMTTYPE=image/jpeg:https://fc.native-gains.com/wp-content/uploads/2025/07/mnpg-211x662-Blue-Ribbon-2025.jpeg
END:VEVENT
BEGIN:VEVENT
DTSTART;TZID=America/New_York:20250724T100000
DTEND;TZID=America/New_York:20250830T130000
DTSTAMP:20260423T134643
CREATED:20250722T203036Z
LAST-MODIFIED:20250722T203036Z
UID:10000987-1753351200-1756558800@fc.native-gains.com
SUMMARY:Summer Guests Two show at Anne Henning Gallery
DESCRIPTION:The Anne Henning Gallery presents\nSummer Guests Two\n \n 
URL:https://fc.native-gains.com/event/summer-guests-two-show-at-anne-henning-gallery/
LOCATION:Anne Henning Gallery\, 19a Depot Street\, Duxbury\, MA\, United States
CATEGORIES:Local Shows
ATTACH;FMTTYPE=image/jpeg:https://fc.native-gains.com/wp-content/uploads/2025/07/Summer-Guests-scaled-e1753216630442.jpeg
END:VEVENT
BEGIN:VEVENT
DTSTART;TZID=America/New_York:20250725T000000
DTEND;TZID=America/New_York:20250824T235959
DTSTAMP:20260423T134643
CREATED:20250729T201530Z
LAST-MODIFIED:20250729T201530Z
UID:10000999-1753401600-1756079999@fc.native-gains.com
SUMMARY:"Into the Night" Cape Cod Art Center - Call for Art
DESCRIPTION:INTO THE NIGHT 2025 – All media online exhibit\n\n| Start Date: 7/25/2025 12:00:00 AM (PT)\n| End Date: 8/24/2025 11:59:00 PM (PT)\n| Fee: $15.00 USD per 1\n| Additional Entries: $15.00 USD per 1\n| Host: Cape Cod Art Center\n\n\n\n\nCape Cod Art Center seeks submissions for our “Into the Night” Online Open Juried Exhibition.  All photographers and studio artists are invited to submit to this open themed exhibit.  The goal of this online exhibit is to extend beyond our walls and provide additional opportunities for fine artists within our community and beyond to showcase their work. \nAll media are allowed\, and any interpretation of this theme will be considered for this online exhibit. \nFor painters of all media: Entries must be of original work\, they cannot be a copy of another painting; a magazine or newspaper photo\, or any type of reproduction; the entry must be the artist’s own composition.  \nFor Photography:  Photographs used must be the artist’s own.  Photo editing apps and programs such as Photoshop and Lightroom may be used to enhance original photographs.  Digital scans\, stock\, image downloads or word generated AI images may not be used.  \nFor Digital Art:  All work should be of the artist’s own creation.  Digital painting\, digital collage and digital photographic work can use AI images as a component\, but not solely as the created work.   Editing software or apps that use components which are not generated by the artist\, use of components of an image that are potentially recognizable by the original artist\, or any use of word generated AI must be disclosed despite ownership or copyright agreements. \nNo crafts or will be accepted.   \nSubmissions are due by August 24\, 2025 by midnight. \nArtist notification by email on September 5\, 2025.  (If you do not see the results in your inbox\, please check your spam folder for the results.  We will also list the accepted artwork on our website.)  The online exhibit will become live on September 5th. \nThe juror may accept a maximum of two works from any one artist.  Payment is non-refundable and does not guarantee acceptance. \nStan Sporlak this exhibit’s juror.  See our website for bio information. There is no personal feedback given by juror. \nCash awards will be given for Best of Show/First Place\, Second Place and Honorable Mention.  The top selected works will be chosen and featured in an online exhibition.  This exhibit will also be shown on a screen at Cape Cod Art Center. \nImage by: Jody Shyllberg\, “Provincetown\, Dusk”\, Pastel
URL:https://fc.native-gains.com/event/into-the-night-cape-cod-art-center-call-for-art/
LOCATION:MA
CATEGORIES:Local Shows
ATTACH;FMTTYPE=image/jpeg:https://fc.native-gains.com/wp-content/uploads/2025/07/Screen-Shot-2025-07-29-at-3.11.03-PM-e1753816433643.jpeg
ORGANIZER;CN="Cape Cod Art Center":MAILTO:manager@capecodartcenter.org
END:VEVENT
BEGIN:VEVENT
DTSTART;TZID=America/New_York:20250802T000000
DTEND;TZID=America/New_York:20250831T235959
DTSTAMP:20260423T134643
CREATED:20250731T214106Z
LAST-MODIFIED:20250731T214106Z
UID:10001007-1754092800-1756684799@fc.native-gains.com
SUMMARY:Student Works at Duxbury Art Complex
DESCRIPTION:The Versatile Gelatin Plate:\nStudents of Barbara Ford Doyle\nAugust 2 – 31\, 2025\n \n\nA Pop-up Exhibit in our Alden Studio Gallery \nA group exhibit of gelatin plate printing methods including collagraphs\, Bic pen drawing transfers\, botanical prints\, photo transfers\, and mixed media. \nExhibiting artists: Emilie Marks\, Alan Trugman\, Kathleen Fowler\, Lori Thomas\, Amy Jasperson\, Rebecca Sher\, Alice Galick\, Petrina Garbarini\, Stephanie O’Neill\, John Valentich\, Barbara Braman\, Shawn Dahlstrom\, and Barbara Ford Doyle \nShown:\nA collage of student works \nImage by – Pat McChristian\, Face First
URL:https://fc.native-gains.com/event/student-works-at-duxbury-art-complex/
LOCATION:The Art Complex Museum\, 189 Alden Street\, Duxbury\, 02332\, United States
CATEGORIES:Local Shows
ATTACH;FMTTYPE=image/jpeg:https://fc.native-gains.com/wp-content/uploads/2025/07/CollageofWorks.jpeg
END:VEVENT
BEGIN:VEVENT
DTSTART;TZID=America/New_York:20250802T000000
DTEND;TZID=America/New_York:20250904T235959
DTSTAMP:20260423T134643
CREATED:20250722T205238Z
LAST-MODIFIED:20250722T205238Z
UID:10000989-1754092800-1757030399@fc.native-gains.com
SUMMARY:Inside Out. Scenes and Dreams from the Shore by Cathy McCarthy
DESCRIPTION:North River Arts Presents\nInside Out\, Scenes and Dreams from the Shore\na collection of works by Cathy McCarthy\n  \nJoin us in celebration of the works by Cathy McCarthy\, on display August 2 – September 4\, 2025 at the Dolphin Gallery\, located in the Hingham Library \nAbout the Artist: Cathy McCarthy studied graphic design and illustration at UMass Dartmouth and continued her studies in Fine Art at the Corcoran in DC and UVM in Vermont. While in the DC area\, Cathy worked in galleries and was the co-owner of Creative Framing frame shop and gallery while beginning her career as a freelance artist. Some of her most treasured accomplishments are in the public art projects that she worked on; including murals in California and Vermont. \nCathy now lives in Scituate with her husband\, Kevin\, her doggie\, Samson\, and a lot of family close by! Her studio in Marshfield is where she spends most of her creative time\, if she isn’t there she is outside hiking or kayaking. \n 
URL:https://fc.native-gains.com/event/inside-out-scenes-and-dreams-from-the-shore-by-cathy-mccarthy/
LOCATION:Hingham Library’s Dolphin Gallery\, 66 Leavitt Street\, Hingham\, MA\, United States
CATEGORIES:Local Shows
ATTACH;FMTTYPE=image/jpeg:https://fc.native-gains.com/wp-content/uploads/2025/07/Cathy-McCarthy.jpeg
END:VEVENT
END:VCALENDAR