BEGIN:VCALENDAR
VERSION:2.0
PRODID:-//Frame Center - ECPv6.2.9//NONSGML v1.0//EN
CALSCALE:GREGORIAN
METHOD:PUBLISH
X-ORIGINAL-URL:https://fc.native-gains.com
X-WR-CALDESC:Events for Frame Center
REFRESH-INTERVAL;VALUE=DURATION:PT1H
X-Robots-Tag:noindex
X-PUBLISHED-TTL:PT1H
BEGIN:VTIMEZONE
TZID:America/New_York
BEGIN:DAYLIGHT
TZOFFSETFROM:-0500
TZOFFSETTO:-0400
TZNAME:EDT
DTSTART:20250309T070000
END:DAYLIGHT
BEGIN:STANDARD
TZOFFSETFROM:-0400
TZOFFSETTO:-0500
TZNAME:EST
DTSTART:20251102T060000
END:STANDARD
BEGIN:DAYLIGHT
TZOFFSETFROM:-0500
TZOFFSETTO:-0400
TZNAME:EDT
DTSTART:20260308T070000
END:DAYLIGHT
BEGIN:STANDARD
TZOFFSETFROM:-0400
TZOFFSETTO:-0500
TZNAME:EST
DTSTART:20261101T060000
END:STANDARD
END:VTIMEZONE
BEGIN:VEVENT
DTSTART;TZID=America/New_York:20250921T000000
DTEND;TZID=America/New_York:20260111T235959
DTSTAMP:20260421T060401
CREATED:20250624T214627Z
LAST-MODIFIED:20250624T214627Z
UID:10000974-1758412800-1768175999@fc.native-gains.com
SUMMARY:Tiny Treasures: Miniatures from the Art Complex Museum Collection
DESCRIPTION:Horse Sculpture\, 1947\, China\, Mottled Blue Lapis Lazuli \n\nTiny Treasures:\nMiniatures from the Art Complex Museum Collection\nSeptember 21 – January 11\, 2025\nReception: September 21\, 2025\, 1:00 – 4:00 pm
URL:https://fc.native-gains.com/event/tiny-treasures-miniatures-from-the-art-complex-museum-collection/
LOCATION:The Art Complex Museum\, 189 Alden Street\, Duxbury\, 02332\, United States
CATEGORIES:Local Shows
ATTACH;FMTTYPE=image/jpeg:https://fc.native-gains.com/wp-content/uploads/2025/06/HorseSculpture_LapisACM-J_65_01__SM-600x400-1.jpeg
END:VEVENT
BEGIN:VEVENT
DTSTART;TZID=America/New_York:20251002T000000
DTEND;TZID=America/New_York:20251031T235959
DTSTAMP:20260421T060401
CREATED:20250913T213442Z
LAST-MODIFIED:20250913T213442Z
UID:10001043-1759363200-1761955199@fc.native-gains.com
SUMMARY:Monsters & Memories
DESCRIPTION:Stoughton Public Library hosts\n“Monsters & Memories”  \nA collection of work by artist David Griffin\nThese fantastic pieces will be on display from October 2nd through the 31st with an Artist Reception on Saturday October 4th from 2:30pm to 4:30pm.  Monsters & Memories show features several of the Universal Monsters including Bela Lugosi as Count Dracula and Sports Stars like Tom Brady.  All pieces are viewable during normal business hours for Stoughton Public Library.
URL:https://fc.native-gains.com/event/monsters-memories/
LOCATION:Stoughton Public Library\, 84 Park Street\, Stoughton\, MA\, 02072\, United States
CATEGORIES:Local Shows
ATTACH;FMTTYPE=image/jpeg:https://fc.native-gains.com/wp-content/uploads/2025/09/IMG_8005.jpeg
END:VEVENT
BEGIN:VEVENT
DTSTART;TZID=America/New_York:20251004T000000
DTEND;TZID=America/New_York:20251030T235959
DTSTAMP:20260421T060401
CREATED:20250930T152408Z
LAST-MODIFIED:20250930T152408Z
UID:10001065-1759536000-1761868799@fc.native-gains.com
SUMMARY:North River Arts 2025 Members Show
DESCRIPTION:Join us as we celebrate North River Arts Annual Members Show Exhibit! The show consists of 150 beautiful\, impressive works from our membership. It’s an incredible show that you don’t want to miss!
URL:https://fc.native-gains.com/event/north-river-arts-2025-members-show/
LOCATION:G.A.R. Hall\, 157 Old Main Street\, Marshfield\, MA\, United States
CATEGORIES:Local Shows
ATTACH;FMTTYPE=image/jpeg:https://fc.native-gains.com/wp-content/uploads/2025/09/IMG_8049-e1759245605838.jpg
END:VEVENT
BEGIN:VEVENT
DTSTART;TZID=America/New_York:20251005T000000
DTEND;TZID=America/New_York:20251106T235959
DTSTAMP:20260421T060401
CREATED:20250916T212553Z
LAST-MODIFIED:20250916T212553Z
UID:10001047-1759622400-1762473599@fc.native-gains.com
SUMMARY:In Sunlight
DESCRIPTION:In Sunlight\nworks by Joreen Benbenek\n  \nJoin us in celebration of the works by Joreen Benbenek\, on display October 5 – November 6\, 2025 at the Dolphin Gallery\, located in the Hingham Library. Opening Reception: Thursday\, October 9\, 5:30-7:00 pm \n  \nArtist Statement: Capturing fleeting moments of majesty and beauty of the illuminated landscape have been a lifelong motivation and inspiration for me. I strive to capture in my landscape paintings not only a unique sense of place but also the emotional experience of the illusive and ever- changing effects of light that can only be experienced by the direct observation of nature. I can’t remember a time when I was not compelled to create art. As a child\, my greatest joy and love was sketching\, painting and experimenting with different art mediums\, trying to capture the essence of the world around me. I pursued my passion in college\, earning my Bachelor of Fine Arts degree in painting\, which I supplemented with training from Boston area painters whose work I admired\, including Alfred Chadbourn\, Charles Sovek\, and painting master\, Michael Keane. My chosen medium has always been oils\, whether working on location “en plein air”\, observing nature firsthand\, or doing larger work from on location studies in my studio\, my goal and motivation is always the same\, to capture the glorious and fleeting dramatic moments of light and shadow on landscapes and cityscapes. I enhance and revise my color values\, shapes and tones until my painting reflects the initial impact and mood of the scene in front of me. I want the viewer to feel as if they can walk into my paintings\, stand beside me and experience the same joy and wonder at the beauty of our natural world. I am inspired daily to capture with paint and canvas the beauty\, drama and luminosity of the world around me.
URL:https://fc.native-gains.com/event/in-sunlight/
LOCATION:Hingham Library’s Dolphin Gallery\, 66 Leavitt Street\, Hingham\, MA\, United States
CATEGORIES:Local Shows
ATTACH;FMTTYPE=image/jpeg:https://fc.native-gains.com/wp-content/uploads/2025/09/Benbenek_Morning-Light-on-the-River_24x48.jpeg
END:VEVENT
BEGIN:VEVENT
DTSTART;TZID=America/New_York:20251017T000000
DTEND;TZID=America/New_York:20251122T235959
DTSTAMP:20260421T060401
CREATED:20250920T211605Z
LAST-MODIFIED:20250920T211605Z
UID:10001060-1760659200-1763855999@fc.native-gains.com
SUMMARY:The James Library Center for the Arts Fall Juried Show 2025
DESCRIPTION:
URL:https://fc.native-gains.com/event/the-james-library-center-for-the-arts-fall-juried-show-2025/
LOCATION:The James Library  & Center for the Arts\, 24 West Street\, Norwell\, MA\, United States
CATEGORIES:Local Shows
ATTACH;FMTTYPE=image/jpeg:https://fc.native-gains.com/wp-content/uploads/2025/09/FallJuriedArtShow2025.jpeg
END:VEVENT
BEGIN:VEVENT
DTSTART;TZID=America/New_York:20251101T000000
DTEND;TZID=America/New_York:20251231T235959
DTSTAMP:20260421T060401
CREATED:20250917T172925Z
LAST-MODIFIED:20250917T172925Z
UID:10001055-1761955200-1767225599@fc.native-gains.com
SUMMARY:"Shared Realities"
DESCRIPTION:The Helen Bumpus Gallery presents\n“Shared Realities”\na collection of works by Artist Kerry W. Buckley\n  \nArtist’s Statement\nMy lifelong passion for painting and drawing became a full-time obsession when I retired from academic life in 2013.  I look upon art as more of a craft. For me\, the work itself is a form of meditation. It is a creative process that absorbs the heart and hand. My landscapes tend to reflect seasonal changes on the outer cape from the brooding tranquility of an autumn afternoon to the off-season\, when the bones of the landscape are laid bare. There is a quiet dignity to these empty places. They are unoccupied but not abandoned. They lie in wait for the next cycle to begin. I am drawn to liminal spaces\, a portal to somewhere else. I do not try to capture reality\, but a mood\, the fleeting light of a solitary moment. My still life paintings explore the rituals that give meaning to the random contingencies of life or the ambiguous innocence of childhoods past. There is a whimsical wistfulness about these mementos that evoke a lost time of wonder and delight. I seek to engage the viewer with a shared human emotion and a slice of lived experience preserved from the relentless flow of time. \nAbout the Artist\n \nAs a student\, Kerry W. Buckley won several statewide art competitions and initially considered a degree in fine art. He was offered\, but declined\, an art scholarship choosing to become an historian specializing in American History. Throughout his academic career he continued to draw and paint. While living in western Massachusetts he developed friendships with regional neorealist artists Scott Prior\, Randal Deihl and Jane Lund whose vision and techniques inspired his work. Since his retirement from academic life\, he has studied portraiture and painting at the Guild Art Center in Northampton\, MA\, classical painting technique with Barbara Johnson\, and indirect painting techniques with Julie Beck at the Academy for Realist Art. He is a Professional Artist member of the Copley Society of Art in Boston and is a Master Artist member of the Cape Cod Art Center. His work has been featured in competitive shows throughout New England and has received awards in national and regional shows. \nWebsite: www.kerrywbuckley.com \nInstagram: @kerrywbuckley
URL:https://fc.native-gains.com/event/shared-realities/
LOCATION:Duxbury Free Library\, 77 Alden Street\, Duxbury\, MA\, 02231\, United States
CATEGORIES:Local Shows
ATTACH;FMTTYPE=image/jpeg:https://fc.native-gains.com/wp-content/uploads/2025/09/buckley-kerry-w-twilight-on-south-west-ridge-oil-on.-panel-16-x20-1200-800-100.jpeg
END:VEVENT
BEGIN:VEVENT
DTSTART;TZID=America/New_York:20251105T000000
DTEND;TZID=America/New_York:20251122T235959
DTSTAMP:20260421T060401
CREATED:20250830T203604Z
LAST-MODIFIED:20250830T203604Z
UID:10001016-1762300800-1763855999@fc.native-gains.com
SUMMARY:Rituals of Seeing
DESCRIPTION:“Rituals of Seeing” \nA collection of works by Claudio Eshun\nOn Display at the Hunchback Gallery\, November 5th through the 22nd with an Opening Reception on the 7th from 6-8pm \n  Claude Eshun – “Rituals of Seeing” is the first scene of Elegant Alien\, a series of made and collected images that explores my family’s history of immigration from Ghana and through Italy\, as well as our creation of a new home in America\, a similar story to many immigrants. 
URL:https://fc.native-gains.com/event/rituals-of-seeing/
LOCATION:Hunchback Gallery\, 75 Webster St\, Worcester\, MA\, 01603\, United States
CATEGORIES:Local Shows
ATTACH;FMTTYPE=image/png:https://fc.native-gains.com/wp-content/uploads/2025/08/Screen-Shot-2025-08-26-at-3.43.51-PM.png
END:VEVENT
END:VCALENDAR