BEGIN:VCALENDAR
VERSION:2.0
PRODID:-//Frame Center - ECPv6.2.9//NONSGML v1.0//EN
CALSCALE:GREGORIAN
METHOD:PUBLISH
X-ORIGINAL-URL:https://fc.native-gains.com
X-WR-CALDESC:Events for Frame Center
REFRESH-INTERVAL;VALUE=DURATION:PT1H
X-Robots-Tag:noindex
X-PUBLISHED-TTL:PT1H
BEGIN:VTIMEZONE
TZID:America/New_York
BEGIN:DAYLIGHT
TZOFFSETFROM:-0500
TZOFFSETTO:-0400
TZNAME:EDT
DTSTART:20240310T070000
END:DAYLIGHT
BEGIN:STANDARD
TZOFFSETFROM:-0400
TZOFFSETTO:-0500
TZNAME:EST
DTSTART:20241103T060000
END:STANDARD
END:VTIMEZONE
BEGIN:VEVENT
DTSTART;TZID=America/New_York:20240502T000000
DTEND;TZID=America/New_York:20240504T235959
DTSTAMP:20260423T134554
CREATED:20240430T145915Z
LAST-MODIFIED:20240430T145915Z
UID:10000375-1714608000-1714867199@fc.native-gains.com
SUMMARY:Star Wars Paint Night with Rob Lynch
DESCRIPTION:  If you’re looking for an out of this world experience this week why not attend a Star Wars Paint Night with Rob Lynch.  For $35 you’ll receive a 8″x8″ Watercolor sketch of your chosen Star Wars character and then be shown step by step on how to line the design with a brush pen and color it with water-based inks.  All materials will be provided and no experience is necessary.  Luckily this isn’t taking place in a galaxy far far away\, it’s at three local businesses\, Distraction Brewing Co. in Roslindale on the 2nd\, Barrel House Z in Weymouth on the 3rd\, and 7th Wave Brewing in Medfield on the 4th.  Signing up in advance is required to guarantee you a spot and to select the figure you wish to paint.\nClick Here to choose your night and character.\n*This is Paint Night is recommended for adults but children with supervision can attend. 
URL:https://fc.native-gains.com/event/star-wars-paint-night-with-rob-lynch/
LOCATION:MA
CATEGORIES:Openings/ Weekend Events
ATTACH;FMTTYPE=image/jpeg:https://fc.native-gains.com/wp-content/uploads/2024/04/a5937034-6ce4-817c-e3e3-2e6e6e17c41b.jpeg
END:VEVENT
BEGIN:VEVENT
DTSTART;TZID=America/New_York:20240502T000000
DTEND;TZID=America/New_York:20240504T235959
DTSTAMP:20260423T134554
CREATED:20240430T145915Z
LAST-MODIFIED:20240430T145915Z
UID:10000718-1714608000-1714867199@fc.native-gains.com
SUMMARY:Star Wars Paint Night with Rob Lynch
DESCRIPTION:  If you’re looking for an out of this world experience this week why not attend a Star Wars Paint Night with Rob Lynch.  For $35 you’ll receive a 8″x8″ Watercolor sketch of your chosen Star Wars character and then be shown step by step on how to line the design with a brush pen and color it with water-based inks.  All materials will be provided and no experience is necessary.  Luckily this isn’t taking place in a galaxy far far away\, it’s at three local businesses\, Distraction Brewing Co. in Roslindale on the 2nd\, Barrel House Z in Weymouth on the 3rd\, and 7th Wave Brewing in Medfield on the 4th.  Signing up in advance is required to guarantee you a spot and to select the figure you wish to paint.\nClick Here to choose your night and character.\n*This is Paint Night is recommended for adults but children with supervision can attend. 
URL:https://fc.native-gains.com/event/star-wars-paint-night-with-rob-lynch-2/
LOCATION:MA
CATEGORIES:Openings/ Weekend Events
ATTACH;FMTTYPE=image/jpeg:https://fc.native-gains.com/wp-content/uploads/2024/04/a5937034-6ce4-817c-e3e3-2e6e6e17c41b.jpeg
END:VEVENT
END:VCALENDAR