BEGIN:VCALENDAR
VERSION:2.0
PRODID:-//Frame Center - ECPv6.2.9//NONSGML v1.0//EN
CALSCALE:GREGORIAN
METHOD:PUBLISH
X-ORIGINAL-URL:https://fc.native-gains.com
X-WR-CALDESC:Events for Frame Center
REFRESH-INTERVAL;VALUE=DURATION:PT1H
X-Robots-Tag:noindex
X-PUBLISHED-TTL:PT1H
BEGIN:VTIMEZONE
TZID:America/New_York
BEGIN:DAYLIGHT
TZOFFSETFROM:-0500
TZOFFSETTO:-0400
TZNAME:EDT
DTSTART:20240310T070000
END:DAYLIGHT
BEGIN:STANDARD
TZOFFSETFROM:-0400
TZOFFSETTO:-0500
TZNAME:EST
DTSTART:20241103T060000
END:STANDARD
END:VTIMEZONE
BEGIN:VEVENT
DTSTART;TZID=America/New_York:20240512T130000
DTEND;TZID=America/New_York:20240512T160000
DTSTAMP:20260423T134559
CREATED:20240425T195808Z
LAST-MODIFIED:20240425T195808Z
UID:10000717-1715518800-1715529600@fc.native-gains.com
SUMMARY:The Duxbury Art Complex presents : Cassatt and Beyond : Woman Printmakers
DESCRIPTION:Cassatt and Beyond: Woman Printmakers\nReception: Sunday\, May 12\, 2024\n1:00-4:00 pm\nThis selection of works by women printmakers celebrates their contributions to the medium. From traditional to more contemporary approaches\, the sampling of prints highlights various artists and the methods they used. \nFrom Angelica Kauffman to Käthe Kollwitz\, Mary Cassatt to Louise Nevelson\, and more\, their inventive\, varied techniques have become revered. The artists have used printmaking to explore various themes including social issues\, domestic life\, and personal identity \n  \n(Shown: Shirley Wales\, Abstraction\, (Detail)\, intaglio) \n 
URL:https://fc.native-gains.com/event/the-duxbury-art-complex-presents-cassatt-and-beyond-woman-printmakers-2/
LOCATION:The Art Complex Museum\, 189 Alden Street\, Duxbury\, 02332\, United States
CATEGORIES:Openings/ Weekend Events
ATTACH;FMTTYPE=image/jpeg:https://fc.native-gains.com/wp-content/uploads/2023/12/WalesShirley_Abstraction-343x705-1.jpeg
END:VEVENT
BEGIN:VEVENT
DTSTART;TZID=America/New_York:20240512T130000
DTEND;TZID=America/New_York:20240512T160000
DTSTAMP:20260423T134559
CREATED:20240425T195808Z
LAST-MODIFIED:20240425T195808Z
UID:10000374-1715518800-1715529600@fc.native-gains.com
SUMMARY:The Duxbury Art Complex presents : Cassatt and Beyond : Woman Printmakers
DESCRIPTION:Cassatt and Beyond: Woman Printmakers\nReception: Sunday\, May 12\, 2024\n1:00-4:00 pm\nThis selection of works by women printmakers celebrates their contributions to the medium. From traditional to more contemporary approaches\, the sampling of prints highlights various artists and the methods they used. \nFrom Angelica Kauffman to Käthe Kollwitz\, Mary Cassatt to Louise Nevelson\, and more\, their inventive\, varied techniques have become revered. The artists have used printmaking to explore various themes including social issues\, domestic life\, and personal identity \n  \n(Shown: Shirley Wales\, Abstraction\, (Detail)\, intaglio) \n 
URL:https://fc.native-gains.com/event/the-duxbury-art-complex-presents-cassatt-and-beyond-woman-printmakers/
LOCATION:The Art Complex Museum\, 189 Alden Street\, Duxbury\, 02332\, United States
CATEGORIES:Openings/ Weekend Events
ATTACH;FMTTYPE=image/jpeg:https://fc.native-gains.com/wp-content/uploads/2023/12/WalesShirley_Abstraction-343x705-1.jpeg
END:VEVENT
BEGIN:VEVENT
DTSTART;TZID=America/New_York:20240512T130000
DTEND;TZID=America/New_York:20240512T160000
DTSTAMP:20260423T134559
CREATED:20240509T170010Z
LAST-MODIFIED:20240509T170010Z
UID:10000723-1715518800-1715529600@fc.native-gains.com
SUMMARY:The Art Complex Museum - "Rocks" by Kristine Brennen
DESCRIPTION:
URL:https://fc.native-gains.com/event/the-art-complex-museum-rocks-by-kristine-brennen-2/
LOCATION:The Art Complex Museum\, 189 Alden Street\, Duxbury\, 02332\, United States
CATEGORIES:Openings/ Weekend Events
ATTACH;FMTTYPE=image/jpeg:https://fc.native-gains.com/wp-content/uploads/2024/05/IMG_6233-scaled.jpg
END:VEVENT
BEGIN:VEVENT
DTSTART;TZID=America/New_York:20240512T130000
DTEND;TZID=America/New_York:20240512T160000
DTSTAMP:20260423T134559
CREATED:20240509T170010Z
LAST-MODIFIED:20240509T170010Z
UID:10000380-1715518800-1715529600@fc.native-gains.com
SUMMARY:The Art Complex Museum - "Rocks" by Kristine Brennen
DESCRIPTION:
URL:https://fc.native-gains.com/event/the-art-complex-museum-rocks-by-kristine-brennen/
LOCATION:The Art Complex Museum\, 189 Alden Street\, Duxbury\, 02332\, United States
CATEGORIES:Openings/ Weekend Events
ATTACH;FMTTYPE=image/jpeg:https://fc.native-gains.com/wp-content/uploads/2024/05/IMG_6233-scaled.jpg
END:VEVENT
END:VCALENDAR