BEGIN:VCALENDAR
VERSION:2.0
PRODID:-//Frame Center - ECPv6.2.9//NONSGML v1.0//EN
CALSCALE:GREGORIAN
METHOD:PUBLISH
X-ORIGINAL-URL:https://fc.native-gains.com
X-WR-CALDESC:Events for Frame Center
REFRESH-INTERVAL;VALUE=DURATION:PT1H
X-Robots-Tag:noindex
X-PUBLISHED-TTL:PT1H
BEGIN:VTIMEZONE
TZID:America/New_York
BEGIN:DAYLIGHT
TZOFFSETFROM:-0500
TZOFFSETTO:-0400
TZNAME:EDT
DTSTART:20240310T070000
END:DAYLIGHT
BEGIN:STANDARD
TZOFFSETFROM:-0400
TZOFFSETTO:-0500
TZNAME:EST
DTSTART:20241103T060000
END:STANDARD
END:VTIMEZONE
BEGIN:VEVENT
DTSTART;TZID=America/New_York:20240517T190000
DTEND;TZID=America/New_York:20240517T220000
DTSTAMP:20260423T151343
CREATED:20240419T204057Z
LAST-MODIFIED:20240419T204135Z
UID:10000366-1715972400-1715983200@fc.native-gains.com
SUMMARY:James Library 150th Birthday Party!!!
DESCRIPTION:James Library & Center for the Arts 150th Birthday Party\nFriday\, May 17th\, 2024 | 7:00-10:00 pm\n$10 ADMISSION (PURCHASE HERE)\nCash Bar | Silent Auction \nLive Program at 8 pm with Artist Marcia Ballou\, Author Tracy Sierra (Nightwatching)\, Pianist Lenny Williams\, and singer and Executive Director Megan Ward \nThe evening will also kick-off the James’ online Auction of Wishes.
URL:https://fc.native-gains.com/event/james-library-150th-birthday-party/
LOCATION:The James Library  & Center for the Arts\, 24 West Street\, Norwell\, MA\, United States
CATEGORIES:Openings/ Weekend Events
ATTACH;FMTTYPE=image/png:https://fc.native-gains.com/wp-content/uploads/2024/04/Screen-Shot-2024-04-19-at-4.34.14-PM.png
END:VEVENT
BEGIN:VEVENT
DTSTART;TZID=America/New_York:20240517T190000
DTEND;TZID=America/New_York:20240517T220000
DTSTAMP:20260423T151343
CREATED:20240419T204057Z
LAST-MODIFIED:20240419T204057Z
UID:10000709-1715972400-1715983200@fc.native-gains.com
SUMMARY:James Library 150th Birthday Party!!!
DESCRIPTION:James Library & Center for the Arts 150th Birthday Party\nFriday\, May 17th\, 2024 | 7:00-10:00 pm\n$10 ADMISSION (PURCHASE HERE)\nCash Bar | Silent Auction \nLive Program at 8 pm with Artist Marcia Ballou\, Author Tracy Sierra (Nightwatching)\, Pianist Lenny Williams\, and singer and Executive Director Megan Ward \nThe evening will also kick-off the James’ online Auction of Wishes.
URL:https://fc.native-gains.com/event/james-library-150th-birthday-party-2/
LOCATION:The James Library  & Center for the Arts\, 24 West Street\, Norwell\, MA\, United States
CATEGORIES:Openings/ Weekend Events
ATTACH;FMTTYPE=image/png:https://fc.native-gains.com/wp-content/uploads/2024/04/Screen-Shot-2024-04-19-at-4.34.14-PM.png
END:VEVENT
END:VCALENDAR