BEGIN:VCALENDAR
VERSION:2.0
PRODID:-//Frame Center - ECPv6.2.9//NONSGML v1.0//EN
CALSCALE:GREGORIAN
METHOD:PUBLISH
X-ORIGINAL-URL:https://fc.native-gains.com
X-WR-CALDESC:Events for Frame Center
REFRESH-INTERVAL;VALUE=DURATION:PT1H
X-Robots-Tag:noindex
X-PUBLISHED-TTL:PT1H
BEGIN:VTIMEZONE
TZID:America/New_York
BEGIN:DAYLIGHT
TZOFFSETFROM:-0500
TZOFFSETTO:-0400
TZNAME:EDT
DTSTART:20240310T070000
END:DAYLIGHT
BEGIN:STANDARD
TZOFFSETFROM:-0400
TZOFFSETTO:-0500
TZNAME:EST
DTSTART:20241103T060000
END:STANDARD
END:VTIMEZONE
BEGIN:VEVENT
DTSTART;TZID=America/New_York:20240524T100000
DTEND;TZID=America/New_York:20240526T170000
DTSTAMP:20260423T134556
CREATED:20240414T230055Z
LAST-MODIFIED:20240414T230055Z
UID:10000364-1716544800-1716742800@fc.native-gains.com
SUMMARY:47th Annual Festival of the Arts
DESCRIPTION:Preview Party on May 24\nMay 25 and 26\, 2024\, 10 am-5 pm/daily \nThe Festival of the Arts will take place in Historic Marshfield Hills and is more than just a fundraiser—it’s a vibrant celebration of creativity and community. Featuring fine art\, sculpture\, photography\, live entertainment\, local food trucks\, and an incredible giant puppet parade\, this event showcases the diverse talents of artists on the South Shore and beyond. \nSign-up to Volunteer: Click here
URL:https://fc.native-gains.com/event/47th-annual-festival-of-the-arts/
LOCATION:North River Arts Society\, 157 Old Main Street\, Marshfield\, MA\, 02051\, United States
CATEGORIES:Openings/ Weekend Events
ATTACH;FMTTYPE=image/jpeg:https://fc.native-gains.com/wp-content/uploads/2024/04/2024-NRAS-Festival-of-the-arts-scaled.jpg
END:VEVENT
BEGIN:VEVENT
DTSTART;TZID=America/New_York:20240524T100000
DTEND;TZID=America/New_York:20240526T170000
DTSTAMP:20260423T134556
CREATED:20240414T230055Z
LAST-MODIFIED:20240414T230055Z
UID:10000708-1716544800-1716742800@fc.native-gains.com
SUMMARY:47th Annual Festival of the Arts
DESCRIPTION:Preview Party on May 24\nMay 25 and 26\, 2024\, 10 am-5 pm/daily \nThe Festival of the Arts will take place in Historic Marshfield Hills and is more than just a fundraiser—it’s a vibrant celebration of creativity and community. Featuring fine art\, sculpture\, photography\, live entertainment\, local food trucks\, and an incredible giant puppet parade\, this event showcases the diverse talents of artists on the South Shore and beyond. \nSign-up to Volunteer: Click here
URL:https://fc.native-gains.com/event/47th-annual-festival-of-the-arts-3/
LOCATION:North River Arts Society\, 157 Old Main Street\, Marshfield\, MA\, 02051\, United States
CATEGORIES:Openings/ Weekend Events
ATTACH;FMTTYPE=image/jpeg:https://fc.native-gains.com/wp-content/uploads/2024/04/2024-NRAS-Festival-of-the-arts-scaled.jpg
END:VEVENT
BEGIN:VEVENT
DTSTART;TZID=America/New_York:20240525T100000
DTEND;TZID=America/New_York:20240526T170000
DTSTAMP:20260423T134556
CREATED:20240423T175823Z
LAST-MODIFIED:20240423T175823Z
UID:10000711-1716631200-1716742800@fc.native-gains.com
SUMMARY:47th Annual Festival of the Arts
DESCRIPTION:Join us Memorial Day Weekend for the 47th Annual Festival of the Arts! North River Arts Society’s Festival is a block-party style celebration of local arts and culture. There will be live music\, entertainment\, 30+ artisan vendors\, art in the barn art sales\, a juried exhibit\, free children’s tent crafts\, poster sales and raffles\, poetry readings\, a giant puppet parade and more! \nThe Festival takes place May 25 and 26\, 10am-5pm both days. Free shuttle bus services from Eames Way School.   \nThe Festival is our kick-off to the summer and a community-favorite event. Come enjoy this free event with your friends and family. 
URL:https://fc.native-gains.com/event/47th-annual-festival-of-the-arts-2-2/
LOCATION:North River Arts Society\, 157 Old Main Street\, Marshfield\, MA\, 02051\, United States
CATEGORIES:Openings/ Weekend Events
ATTACH;FMTTYPE=image/jpeg:https://fc.native-gains.com/wp-content/uploads/2024/04/riv.jpeg
END:VEVENT
BEGIN:VEVENT
DTSTART;TZID=America/New_York:20240525T100000
DTEND;TZID=America/New_York:20240526T170000
DTSTAMP:20260423T134556
CREATED:20240423T175823Z
LAST-MODIFIED:20240423T175823Z
UID:10000368-1716631200-1716742800@fc.native-gains.com
SUMMARY:47th Annual Festival of the Arts
DESCRIPTION:Join us Memorial Day Weekend for the 47th Annual Festival of the Arts! North River Arts Society’s Festival is a block-party style celebration of local arts and culture. There will be live music\, entertainment\, 30+ artisan vendors\, art in the barn art sales\, a juried exhibit\, free children’s tent crafts\, poster sales and raffles\, poetry readings\, a giant puppet parade and more! \nThe Festival takes place May 25 and 26\, 10am-5pm both days. Free shuttle bus services from Eames Way School.   \nThe Festival is our kick-off to the summer and a community-favorite event. Come enjoy this free event with your friends and family. 
URL:https://fc.native-gains.com/event/47th-annual-festival-of-the-arts-2/
LOCATION:North River Arts Society\, 157 Old Main Street\, Marshfield\, MA\, 02051\, United States
CATEGORIES:Openings/ Weekend Events
ATTACH;FMTTYPE=image/jpeg:https://fc.native-gains.com/wp-content/uploads/2024/04/riv.jpeg
END:VEVENT
END:VCALENDAR