BEGIN:VCALENDAR
VERSION:2.0
PRODID:-//Frame Center - ECPv6.2.9//NONSGML v1.0//EN
CALSCALE:GREGORIAN
METHOD:PUBLISH
X-WR-CALNAME:Frame Center
X-ORIGINAL-URL:https://fc.native-gains.com
X-WR-CALDESC:Events for Frame Center
REFRESH-INTERVAL;VALUE=DURATION:PT1H
X-Robots-Tag:noindex
X-PUBLISHED-TTL:PT1H
BEGIN:VTIMEZONE
TZID:America/New_York
BEGIN:DAYLIGHT
TZOFFSETFROM:-0500
TZOFFSETTO:-0400
TZNAME:EDT
DTSTART:20240310T070000
END:DAYLIGHT
BEGIN:STANDARD
TZOFFSETFROM:-0400
TZOFFSETTO:-0500
TZNAME:EST
DTSTART:20241103T060000
END:STANDARD
END:VTIMEZONE
BEGIN:VEVENT
DTSTART;TZID=America/New_York:20240709T180000
DTEND;TZID=America/New_York:20240709T210000
DTSTAMP:20260423T041916
CREATED:20240702T142533Z
LAST-MODIFIED:20240702T142533Z
UID:10000740-1720548000-1720558800@fc.native-gains.com
SUMMARY:Summer Guests
DESCRIPTION:
URL:https://fc.native-gains.com/event/summer-guests-2/
LOCATION:Anne Henning Gallery\, 19a Depot Street\, Duxbury\, MA\, United States
CATEGORIES:Openings/ Weekend Events
ATTACH;FMTTYPE=image/heic:https://fc.native-gains.com/wp-content/uploads/2024/07/IMG_6526.heic
END:VEVENT
BEGIN:VEVENT
DTSTART;TZID=America/New_York:20240709T180000
DTEND;TZID=America/New_York:20240709T210000
DTSTAMP:20260423T041916
CREATED:20240702T142533Z
LAST-MODIFIED:20240702T142601Z
UID:10000400-1720548000-1720558800@fc.native-gains.com
SUMMARY:Summer Guests
DESCRIPTION:
URL:https://fc.native-gains.com/event/summer-guests/
LOCATION:Anne Henning Gallery\, 19a Depot Street\, Duxbury\, MA\, United States
CATEGORIES:Openings/ Weekend Events
ATTACH;FMTTYPE=image/heic:https://fc.native-gains.com/wp-content/uploads/2024/07/IMG_6526.heic
END:VEVENT
END:VCALENDAR