BEGIN:VCALENDAR
VERSION:2.0
PRODID:-//Frame Center - ECPv6.2.9//NONSGML v1.0//EN
CALSCALE:GREGORIAN
METHOD:PUBLISH
X-WR-CALNAME:Frame Center
X-ORIGINAL-URL:https://fc.native-gains.com
X-WR-CALDESC:Events for Frame Center
REFRESH-INTERVAL;VALUE=DURATION:PT1H
X-Robots-Tag:noindex
X-PUBLISHED-TTL:PT1H
BEGIN:VTIMEZONE
TZID:America/New_York
BEGIN:DAYLIGHT
TZOFFSETFROM:-0500
TZOFFSETTO:-0400
TZNAME:EDT
DTSTART:20240310T070000
END:DAYLIGHT
BEGIN:STANDARD
TZOFFSETFROM:-0400
TZOFFSETTO:-0500
TZNAME:EST
DTSTART:20241103T060000
END:STANDARD
END:VTIMEZONE
BEGIN:VEVENT
DTSTART;TZID=America/New_York:20240427T120000
DTEND;TZID=America/New_York:20240428T170000
DTSTAMP:20260420T192710
CREATED:20240411T180143Z
LAST-MODIFIED:20240411T180143Z
UID:10000700-1714219200-1714323600@fc.native-gains.com
SUMMARY:4th Floor Artists Open Studio's at the Sand Paper Factory
DESCRIPTION:
URL:https://fc.native-gains.com/event/4th-floor-artists-open-studios-at-the-sand-paper-factory-2/
LOCATION:4th Floor Artists – Sandpaper Factory\, Sandpaper Factory 83 E Water street\, rockland\, MA\, 02370\, United States
CATEGORIES:Openings/ Weekend Events
END:VEVENT
BEGIN:VEVENT
DTSTART;TZID=America/New_York:20240427T120000
DTEND;TZID=America/New_York:20240428T170000
DTSTAMP:20260420T192710
CREATED:20240411T180143Z
LAST-MODIFIED:20240411T180143Z
UID:10000357-1714219200-1714323600@fc.native-gains.com
SUMMARY:4th Floor Artists Open Studio's at the Sand Paper Factory
DESCRIPTION:
URL:https://fc.native-gains.com/event/4th-floor-artists-open-studios-at-the-sand-paper-factory/
LOCATION:4th Floor Artists – Sandpaper Factory\, Sandpaper Factory 83 E Water street\, rockland\, MA\, 02370\, United States
CATEGORIES:Openings/ Weekend Events
END:VEVENT
BEGIN:VEVENT
DTSTART;TZID=America/New_York:20240427T110000
DTEND;TZID=America/New_York:20240427T170000
DTSTAMP:20260420T192710
CREATED:20240424T184924Z
LAST-MODIFIED:20240424T184924Z
UID:10000716-1714215600-1714237200@fc.native-gains.com
SUMMARY:The Wright Building Open Studios
DESCRIPTION:
URL:https://fc.native-gains.com/event/the-wright-building-open-studios-2/
LOCATION:4th Floor Artists\, E.T. WRIGHT BUILDING | 379 LIBERTY ST\, rockland\, MA\, 02370\, United States
CATEGORIES:Openings/ Weekend Events
ATTACH;FMTTYPE=image/jpeg:https://fc.native-gains.com/wp-content/uploads/2024/04/c5d3c2cb-5a00-4d09-b166-fba8e4219e13.jpg
END:VEVENT
BEGIN:VEVENT
DTSTART;TZID=America/New_York:20240427T110000
DTEND;TZID=America/New_York:20240427T170000
DTSTAMP:20260420T192710
CREATED:20240424T184924Z
LAST-MODIFIED:20240424T184924Z
UID:10000373-1714215600-1714237200@fc.native-gains.com
SUMMARY:The Wright Building Open Studios
DESCRIPTION:
URL:https://fc.native-gains.com/event/the-wright-building-open-studios/
LOCATION:4th Floor Artists\, E.T. WRIGHT BUILDING | 379 LIBERTY ST\, rockland\, MA\, 02370\, United States
CATEGORIES:Openings/ Weekend Events
ATTACH;FMTTYPE=image/jpeg:https://fc.native-gains.com/wp-content/uploads/2024/04/c5d3c2cb-5a00-4d09-b166-fba8e4219e13.jpg
END:VEVENT
BEGIN:VEVENT
DTSTART;TZID=America/New_York:20240419T190000
DTEND;TZID=America/New_York:20240419T210000
DTSTAMP:20260420T192710
CREATED:20240412T171816Z
LAST-MODIFIED:20240412T171816Z
UID:10000701-1713553200-1713560400@fc.native-gains.com
SUMMARY:Scituate Art Association Juried Show
DESCRIPTION:
URL:https://fc.native-gains.com/event/scituate-art-association-juried-show-2/
LOCATION:Front Street Gallery\, 124 Front Street\, Scituate\, MA\, United States
CATEGORIES:Openings/ Weekend Events
ORGANIZER;CN="Scituate Arts Association":MAILTO:ScituateArtsAssociation@gmail.com
END:VEVENT
BEGIN:VEVENT
DTSTART;TZID=America/New_York:20240419T190000
DTEND;TZID=America/New_York:20240419T210000
DTSTAMP:20260420T192710
CREATED:20240412T171816Z
LAST-MODIFIED:20240412T171816Z
UID:10000358-1713553200-1713560400@fc.native-gains.com
SUMMARY:Scituate Art Association Juried Show
DESCRIPTION:
URL:https://fc.native-gains.com/event/scituate-art-association-juried-show/
LOCATION:Front Street Gallery\, 124 Front Street\, Scituate\, MA\, United States
CATEGORIES:Openings/ Weekend Events
ORGANIZER;CN="Scituate Arts Association":MAILTO:ScituateArtsAssociation@gmail.com
END:VEVENT
BEGIN:VEVENT
DTSTART;TZID=America/New_York:20240404T180000
DTEND;TZID=America/New_York:20240404T200000
DTSTAMP:20260420T192710
CREATED:20240403T201120Z
LAST-MODIFIED:20240403T201120Z
UID:10000698-1712253600-1712260800@fc.native-gains.com
SUMMARY:Out of Darkness
DESCRIPTION:South Shore Art Center presents\nOut of Darkness – National Juried Exhibition\nIN-PERSON OPENING RECEPTION: Thursday\, April 4\, 6-8 pm\n  \nABOUT THE THEME: The exhibition title\, Out of Darkness\, was inspired by the emergence of Spring and the lengthening days and increased sunlight. Many struggle with the dark days of Winter and Spring promises a resurgence and manifests creativity. The theme also alludes to dark times we have undergone as a nation\, and the hope that we are leaving those days behind us. \n  \n 
URL:https://fc.native-gains.com/event/out-of-darkness-2-2/
LOCATION:SSAC\, 119 Ripley Rd\, Cohasset\, MA\, United States
CATEGORIES:Openings/ Weekend Events
END:VEVENT
BEGIN:VEVENT
DTSTART;TZID=America/New_York:20240404T180000
DTEND;TZID=America/New_York:20240404T200000
DTSTAMP:20260420T192710
CREATED:20240403T201120Z
LAST-MODIFIED:20240412T152847Z
UID:10000355-1712253600-1712260800@fc.native-gains.com
SUMMARY:Out of Darkness
DESCRIPTION:South Shore Art Center presents\nOut of Darkness – National Juried Exhibition\nIN-PERSON OPENING RECEPTION: Thursday\, April 4\, 6-8 pm\n  \nABOUT THE THEME: The exhibition title\, Out of Darkness\, was inspired by the emergence of Spring and the lengthening days and increased sunlight. Many struggle with the dark days of Winter and Spring promises a resurgence and manifests creativity. The theme also alludes to dark times we have undergone as a nation\, and the hope that we are leaving those days behind us. \n  \n 
URL:https://fc.native-gains.com/event/out-of-darkness-2/
LOCATION:SSAC\, 119 Ripley Rd\, Cohasset\, MA\, United States
CATEGORIES:Openings/ Weekend Events
END:VEVENT
END:VCALENDAR