BEGIN:VCALENDAR
VERSION:2.0
PRODID:-//Frame Center - ECPv6.2.9//NONSGML v1.0//EN
CALSCALE:GREGORIAN
METHOD:PUBLISH
X-WR-CALNAME:Frame Center
X-ORIGINAL-URL:https://fc.native-gains.com
X-WR-CALDESC:Events for Frame Center
REFRESH-INTERVAL;VALUE=DURATION:PT1H
X-Robots-Tag:noindex
X-PUBLISHED-TTL:PT1H
BEGIN:VTIMEZONE
TZID:America/New_York
BEGIN:DAYLIGHT
TZOFFSETFROM:-0500
TZOFFSETTO:-0400
TZNAME:EDT
DTSTART:20220313T070000
END:DAYLIGHT
BEGIN:STANDARD
TZOFFSETFROM:-0400
TZOFFSETTO:-0500
TZNAME:EST
DTSTART:20221106T060000
END:STANDARD
BEGIN:DAYLIGHT
TZOFFSETFROM:-0500
TZOFFSETTO:-0400
TZNAME:EDT
DTSTART:20230312T070000
END:DAYLIGHT
BEGIN:STANDARD
TZOFFSETFROM:-0400
TZOFFSETTO:-0500
TZNAME:EST
DTSTART:20231105T060000
END:STANDARD
END:VTIMEZONE
BEGIN:VEVENT
DTSTART;TZID=America/New_York:20230402T130000
DTEND;TZID=America/New_York:20230827T160000
DTSTAMP:20260425T084736
CREATED:20230810T170500Z
LAST-MODIFIED:20230810T170500Z
UID:10000173-1680440400-1693152000@fc.native-gains.com
SUMMARY:Duxbury Art Complex presents "TAG"
DESCRIPTION:TAG: Contemporary Painters\n\nApril 2 – August 27\, 2023\nReception: May 21\, 2023\, 1:00 – 4:00 pm \nFor this exhibition\, we began by asking artist Carol O’Malia to be in the show. She then asked another painter to be in the show. That painter then chose another painter\, etc. Hence the name “Tag.”  The artists picked friends\, studio mates\, former classmates\, and other artists whose work they admired. Like a game of tag there were not many rules\, other than being based in New England\, and even that rule was bent. \nThe result is an organically grown exhibition with a wide-ranging view.  Artists in the exhibition include Angela Godoy\, Kevin Kearns\, Chil Mott\, Richard Neal\, Carol O’Malia\, Tula Telfair\, Peter Waite\, and Gina Volpe. \nShown: Chil Mott\, Untitled #17\, from the Sill Life series\, 2018\, oil on board
URL:https://fc.native-gains.com/event/duxbury-art-complex-presents-tag/
LOCATION:The Art Complex Museum\, 189 Alden Street\, Duxbury\, 02332\, United States
ATTACH;FMTTYPE=image/jpeg:https://fc.native-gains.com/wp-content/uploads/2023/08/chil_mott_sill_life_number_17-600x600-1.jpeg
END:VEVENT
BEGIN:VEVENT
DTSTART;TZID=America/New_York:20230402T130000
DTEND;TZID=America/New_York:20230827T160000
DTSTAMP:20260425T084736
CREATED:20230810T170500Z
LAST-MODIFIED:20230810T170500Z
UID:10000581-1680440400-1693152000@fc.native-gains.com
SUMMARY:Duxbury Art Complex presents "TAG"
DESCRIPTION:TAG: Contemporary Painters\n\nApril 2 – August 27\, 2023\nReception: May 21\, 2023\, 1:00 – 4:00 pm \nFor this exhibition\, we began by asking artist Carol O’Malia to be in the show. She then asked another painter to be in the show. That painter then chose another painter\, etc. Hence the name “Tag.”  The artists picked friends\, studio mates\, former classmates\, and other artists whose work they admired. Like a game of tag there were not many rules\, other than being based in New England\, and even that rule was bent. \nThe result is an organically grown exhibition with a wide-ranging view.  Artists in the exhibition include Angela Godoy\, Kevin Kearns\, Chil Mott\, Richard Neal\, Carol O’Malia\, Tula Telfair\, Peter Waite\, and Gina Volpe. \nShown: Chil Mott\, Untitled #17\, from the Sill Life series\, 2018\, oil on board
URL:https://fc.native-gains.com/event/duxbury-art-complex-presents-tag-2/
LOCATION:The Art Complex Museum\, 189 Alden Street\, Duxbury\, 02332\, United States
ATTACH;FMTTYPE=image/jpeg:https://fc.native-gains.com/wp-content/uploads/2023/08/chil_mott_sill_life_number_17-600x600-1.jpeg
END:VEVENT
BEGIN:VEVENT
DTSTART;TZID=America/New_York:20230331T120000
DTEND;TZID=America/New_York:20230430T160000
DTSTAMP:20260425T084736
CREATED:20230322T182917Z
LAST-MODIFIED:20230322T182917Z
UID:10000159-1680264000-1682870400@fc.native-gains.com
SUMMARY:"Mapping My DNA" by Annee Spileos Scott
DESCRIPTION:Galeta Fine Arts presents \nAnnee Spileos Scott \n“Mapping My DNA”\nMarch 31st through April 30th\, 2023\nwith an opening reception on\nApril 7th\, 6-8pm\nwith a Gallery Talk on April 30th at 1pm
URL:https://fc.native-gains.com/event/mapping-my-dna-by-annee-spileos-scott/
LOCATION:Galatea Fine Arts\, 460B Harrison Avenue\, B-6\, Boston\, MA\, 02118\, United States
ATTACH;FMTTYPE=image/jpeg:https://fc.native-gains.com/wp-content/uploads/2023/03/Annee-Scott-scaled.jpg
END:VEVENT
BEGIN:VEVENT
DTSTART;TZID=America/New_York:20230331T120000
DTEND;TZID=America/New_York:20230430T160000
DTSTAMP:20260425T084736
CREATED:20230322T182917Z
LAST-MODIFIED:20230322T182917Z
UID:10000557-1680264000-1682870400@fc.native-gains.com
SUMMARY:"Mapping My DNA" by Annee Spileos Scott
DESCRIPTION:Galeta Fine Arts presents \nAnnee Spileos Scott \n“Mapping My DNA”\nMarch 31st through April 30th\, 2023\nwith an opening reception on\nApril 7th\, 6-8pm\nwith a Gallery Talk on April 30th at 1pm
URL:https://fc.native-gains.com/event/mapping-my-dna-by-annee-spileos-scott-2/
LOCATION:Galatea Fine Arts\, 460B Harrison Avenue\, B-6\, Boston\, MA\, 02118\, United States
ATTACH;FMTTYPE=image/jpeg:https://fc.native-gains.com/wp-content/uploads/2023/03/Annee-Scott-scaled.jpg
END:VEVENT
BEGIN:VEVENT
DTSTART;VALUE=DATE:20230327
DTEND;VALUE=DATE:20230430
DTSTAMP:20260425T084736
CREATED:20230325T201957Z
LAST-MODIFIED:20230325T201957Z
UID:10000161-1679875200-1682812799@fc.native-gains.com
SUMMARY:FC Gallery - Abstract Paintings By Kelly Broderick and Kelly Russo
DESCRIPTION:
URL:https://fc.native-gains.com/event/fc-gallery-abstract-paintings-by-kelly-broderick-and-kelly-russo/
LOCATION:Frame Center Hanover\, 152 Rockland Street\, Hanover\, MA\, 02339\, United States
ATTACH;FMTTYPE=image/jpeg:https://fc.native-gains.com/wp-content/uploads/2023/03/Kelly-and-Kelly-card.jpg
END:VEVENT
BEGIN:VEVENT
DTSTART;TZID=America/New_York:20230327T000000
DTEND;TZID=America/New_York:20230429T235959
DTSTAMP:20260425T084736
CREATED:20230325T201957Z
LAST-MODIFIED:20230325T201957Z
UID:10000559-1679875200-1682812799@fc.native-gains.com
SUMMARY:FC Gallery - Abstract Paintings By Kelly Broderick and Kelly Russo
DESCRIPTION:
URL:https://fc.native-gains.com/event/fc-gallery-abstract-paintings-by-kelly-broderick-and-kelly-russo-2/
LOCATION:Frame Center Hanover\, 152 Rockland Street\, Hanover\, MA\, 02339\, United States
ATTACH;FMTTYPE=image/jpeg:https://fc.native-gains.com/wp-content/uploads/2023/03/Kelly-and-Kelly-card.jpg
END:VEVENT
BEGIN:VEVENT
DTSTART;TZID=America/New_York:20230322T000000
DTEND;TZID=America/New_York:20230409T235959
DTSTAMP:20260425T084736
CREATED:20230322T183800Z
LAST-MODIFIED:20230322T183800Z
UID:10000558-1679443200-1681084799@fc.native-gains.com
SUMMARY:Hull Artists Association - Call for Artists
DESCRIPTION:
URL:https://fc.native-gains.com/event/hull-artists-association-call-for-artists-2/
LOCATION:MA
ATTACH;FMTTYPE=image/jpeg:https://fc.native-gains.com/wp-content/uploads/2023/03/Call4Art-HA-2nd-Annual-Regional-2023.docx-8.5-x-11-flyer-format.jpeg
END:VEVENT
BEGIN:VEVENT
DTSTART;VALUE=DATE:20230322
DTEND;VALUE=DATE:20230410
DTSTAMP:20260425T084736
CREATED:20230322T183800Z
LAST-MODIFIED:20230322T183800Z
UID:10000160-1679443200-1681084799@fc.native-gains.com
SUMMARY:Hull Artists Association - Call for Artists
DESCRIPTION:
URL:https://fc.native-gains.com/event/hull-artists-association-call-for-artists/
LOCATION:MA
ATTACH;FMTTYPE=image/jpeg:https://fc.native-gains.com/wp-content/uploads/2023/03/Call4Art-HA-2nd-Annual-Regional-2023.docx-8.5-x-11-flyer-format.jpeg
END:VEVENT
BEGIN:VEVENT
DTSTART;VALUE=DATE:20230218
DTEND;VALUE=DATE:20230409
DTSTAMP:20260425T084736
CREATED:20230207T183013Z
LAST-MODIFIED:20230207T183013Z
UID:10000158-1676678400-1680998399@fc.native-gains.com
SUMMARY:"On The Sunny Side"
DESCRIPTION:“On The Sunny Side”\nfeatures the work of award winning photographer Lindsay McGrath.  It runs from Feb. 18 – April 8\, 2023 and showcases images from some of the warmest places on the planet including Panama\, Belize\, the Caribbean\, Palm Springs\, Florida\, Cape Cod\, Martha’s Vineyard and more.  \n \nA reception will be held at the Horan Gallery\, Fri.\, March 3 from 5:30 – 7:30 p.m.  \n \nFree and open to the public\, “On The Sunny Side” is presented with support from North River Arts Society.
URL:https://fc.native-gains.com/event/on-the-sunny-side/
LOCATION:Ventress Memorial Library\, 1837 Ocean Street/route 139\, Marshfield\, 02050\, United States
ATTACH;FMTTYPE=image/jpeg:https://fc.native-gains.com/wp-content/uploads/2023/02/Lindsay-McGrath-Picture26.jpg
END:VEVENT
BEGIN:VEVENT
DTSTART;TZID=America/New_York:20230218T000000
DTEND;TZID=America/New_York:20230408T235959
DTSTAMP:20260425T084736
CREATED:20230207T183013Z
LAST-MODIFIED:20230207T183013Z
UID:10000556-1676678400-1680998399@fc.native-gains.com
SUMMARY:"On The Sunny Side"
DESCRIPTION:“On The Sunny Side”\nfeatures the work of award winning photographer Lindsay McGrath.  It runs from Feb. 18 – April 8\, 2023 and showcases images from some of the warmest places on the planet including Panama\, Belize\, the Caribbean\, Palm Springs\, Florida\, Cape Cod\, Martha’s Vineyard and more.  \n \nA reception will be held at the Horan Gallery\, Fri.\, March 3 from 5:30 – 7:30 p.m.  \n \nFree and open to the public\, “On The Sunny Side” is presented with support from North River Arts Society.
URL:https://fc.native-gains.com/event/on-the-sunny-side-2/
LOCATION:Ventress Memorial Library\, 1837 Ocean Street/route 139\, Marshfield\, 02050\, United States
ATTACH;FMTTYPE=image/jpeg:https://fc.native-gains.com/wp-content/uploads/2023/02/Lindsay-McGrath-Picture26.jpg
END:VEVENT
BEGIN:VEVENT
DTSTART;TZID=America/New_York:20230204T183000
DTEND;TZID=America/New_York:20230204T210000
DTSTAMP:20260425T084736
CREATED:20230125T221503Z
LAST-MODIFIED:20230125T221503Z
UID:10000554-1675535400-1675544400@fc.native-gains.com
SUMMARY:Food & Art Night
DESCRIPTION:A Night of Delicious Food and Amazing Art On Saturday Feb. 4th in the Gallery on the 4th Floor of the Sandpaper Factory!
URL:https://fc.native-gains.com/event/food-art-night-2/
LOCATION:4th Floor Artists – Sandpaper Factory\, Sandpaper Factory 83 E Water street\, rockland\, MA\, 02370\, United States
ATTACH;FMTTYPE=image/jpeg:https://fc.native-gains.com/wp-content/uploads/2023/01/foodandart-eb_0221.jpg
END:VEVENT
BEGIN:VEVENT
DTSTART;TZID=America/New_York:20230204T183000
DTEND;TZID=America/New_York:20230204T210000
DTSTAMP:20260425T084736
CREATED:20230125T221503Z
LAST-MODIFIED:20230125T221503Z
UID:10000232-1675535400-1675544400@fc.native-gains.com
SUMMARY:Food & Art Night
DESCRIPTION:A Night of Delicious Food and Amazing Art On Saturday Feb. 4th in the Gallery on the 4th Floor of the Sandpaper Factory!
URL:https://fc.native-gains.com/event/food-art-night/
LOCATION:4th Floor Artists – Sandpaper Factory\, Sandpaper Factory 83 E Water street\, rockland\, MA\, 02370\, United States
ATTACH;FMTTYPE=image/jpeg:https://fc.native-gains.com/wp-content/uploads/2023/01/foodandart-eb_0221.jpg
END:VEVENT
BEGIN:VEVENT
DTSTART;VALUE=DATE:20230204
DTEND;VALUE=DATE:20230303
DTSTAMP:20260425T084736
CREATED:20230201T212850Z
LAST-MODIFIED:20230201T212850Z
UID:10000234-1675468800-1677801599@fc.native-gains.com
SUMMARY:"Reimaginings"
DESCRIPTION:North River Arts presents \nSally Dean’s\n“Reimaginings”\n  \nFebruary 4th thru March 2nd \nat the Dolphin Gallery in the Hingham Library \nOpen Reception  \nThursday\, February 9th\, 5:30pm – 7:30pm
URL:https://fc.native-gains.com/event/reimaginings/
LOCATION:Hingham Library’s Dolphin Gallery\, 66 Leavitt Street\, Hingham\, MA\, United States
ATTACH;FMTTYPE=image/jpeg:https://fc.native-gains.com/wp-content/uploads/2023/02/NRAS-SallyDean-2023-small_Page_1.jpeg
END:VEVENT
BEGIN:VEVENT
DTSTART;TZID=America/New_York:20230204T000000
DTEND;TZID=America/New_York:20230302T235959
DTSTAMP:20260425T084736
CREATED:20230201T212850Z
LAST-MODIFIED:20230201T212850Z
UID:10000555-1675468800-1677801599@fc.native-gains.com
SUMMARY:"Reimaginings"
DESCRIPTION:North River Arts presents \nSally Dean’s\n“Reimaginings”\n  \nFebruary 4th thru March 2nd \nat the Dolphin Gallery in the Hingham Library \nOpen Reception  \nThursday\, February 9th\, 5:30pm – 7:30pm
URL:https://fc.native-gains.com/event/reimaginings-2/
LOCATION:Hingham Library’s Dolphin Gallery\, 66 Leavitt Street\, Hingham\, MA\, United States
ATTACH;FMTTYPE=image/jpeg:https://fc.native-gains.com/wp-content/uploads/2023/02/NRAS-SallyDean-2023-small_Page_1.jpeg
END:VEVENT
BEGIN:VEVENT
DTSTART;TZID=America/New_York:20230117T000000
DTEND;TZID=America/New_York:20230224T235959
DTSTAMP:20260425T084736
CREATED:20230104T154942Z
LAST-MODIFIED:20230104T154942Z
UID:10000553-1673913600-1677283199@fc.native-gains.com
SUMMARY:
DESCRIPTION:Paintings By\nAndrew Flight\nShowing\nJan. 16th – Feb. 24th \nArtist Reception\nThursday Jan. 19th \n5pm -7pm
URL:https://fc.native-gains.com/event/81658-2/
LOCATION:Frame Center Hanover\, 152 Rockland Street\, Hanover\, MA\, 02339\, United States
ATTACH;FMTTYPE=image/jpeg:https://fc.native-gains.com/wp-content/uploads/2023/01/Andrew-Flight-2-scaled.jpeg
END:VEVENT
BEGIN:VEVENT
DTSTART;VALUE=DATE:20230117
DTEND;VALUE=DATE:20230225
DTSTAMP:20260425T084736
CREATED:20230104T154942Z
LAST-MODIFIED:20230104T154942Z
UID:10000230-1673913600-1677283199@fc.native-gains.com
SUMMARY:
DESCRIPTION:Paintings By\nAndrew Flight\nShowing\nJan. 16th – Feb. 24th \nArtist Reception\nThursday Jan. 19th \n5pm -7pm
URL:https://fc.native-gains.com/event/81658/
LOCATION:Frame Center Hanover\, 152 Rockland Street\, Hanover\, MA\, 02339\, United States
ATTACH;FMTTYPE=image/jpeg:https://fc.native-gains.com/wp-content/uploads/2023/01/Andrew-Flight-2-scaled.jpeg
END:VEVENT
BEGIN:VEVENT
DTSTART;VALUE=DATE:20230101
DTEND;VALUE=DATE:20230201
DTSTAMP:20260425T084736
CREATED:20221214T185907Z
LAST-MODIFIED:20221216T152853Z
UID:10000228-1672531200-1675209599@fc.native-gains.com
SUMMARY:Photographs of the Northeast & Southwest
DESCRIPTION:Photographs\n of the\nNortheast & Southeast\nby Ted Walker\nStop in and view Ted’s pieces at the John Curtis Free Library in Hanover \nUp for the entire month of January 2023 \nAll Pieces are available for purchase \n 
URL:https://fc.native-gains.com/event/photographs-of-the-northeast-southwest/
LOCATION:John Curtis Free Library\, 534 Hanover Street\, Hanover\, MA\, 02339\, United States
ATTACH;FMTTYPE=image/jpeg:https://fc.native-gains.com/wp-content/uploads/2022/12/ted-walker.jpg
END:VEVENT
BEGIN:VEVENT
DTSTART;TZID=America/New_York:20230101T000000
DTEND;TZID=America/New_York:20230131T235959
DTSTAMP:20260425T084736
CREATED:20221214T185907Z
LAST-MODIFIED:20221214T185907Z
UID:10000552-1672531200-1675209599@fc.native-gains.com
SUMMARY:Photographs of the Northeast & Southwest
DESCRIPTION:Photographs\n of the\nNortheast & Southeast\nby Ted Walker\nStop in and view Ted’s pieces at the John Curtis Free Library in Hanover \nUp for the entire month of January 2023 \nAll Pieces are available for purchase \n 
URL:https://fc.native-gains.com/event/photographs-of-the-northeast-southwest-2/
LOCATION:John Curtis Free Library\, 534 Hanover Street\, Hanover\, MA\, 02339\, United States
ATTACH;FMTTYPE=image/jpeg:https://fc.native-gains.com/wp-content/uploads/2022/12/ted-walker.jpg
END:VEVENT
BEGIN:VEVENT
DTSTART;TZID=America/New_York:20221203T000000
DTEND;TZID=America/New_York:20230105T235959
DTSTAMP:20260425T084736
CREATED:20221111T153040Z
LAST-MODIFIED:20221111T153040Z
UID:10000549-1670025600-1672963199@fc.native-gains.com
SUMMARY:Drawn Out
DESCRIPTION:The North River Arts Society Presents \nJody Regan\nDrawn Out\nCome and see her works displayed at \nthe Dolphin Gallery at the Hingham Library \nOpening Reception is  \nThursday\, Dec. 8th \n5:30pm til 7:30pm
URL:https://fc.native-gains.com/event/drawn-out-2/
LOCATION:Hingham Library’s Dolphin Gallery\, 66 Leavitt Street\, Hingham\, MA\, United States
ATTACH;FMTTYPE=image/png:https://fc.native-gains.com/wp-content/uploads/2022/11/drawn-out.png
END:VEVENT
BEGIN:VEVENT
DTSTART;VALUE=DATE:20221203
DTEND;VALUE=DATE:20230106
DTSTAMP:20260425T084736
CREATED:20221111T153040Z
LAST-MODIFIED:20221111T153040Z
UID:10000222-1670025600-1672963199@fc.native-gains.com
SUMMARY:Drawn Out
DESCRIPTION:The North River Arts Society Presents \nJody Regan\nDrawn Out\nCome and see her works displayed at \nthe Dolphin Gallery at the Hingham Library \nOpening Reception is  \nThursday\, Dec. 8th \n5:30pm til 7:30pm
URL:https://fc.native-gains.com/event/drawn-out/
LOCATION:Hingham Library’s Dolphin Gallery\, 66 Leavitt Street\, Hingham\, MA\, United States
ATTACH;FMTTYPE=image/png:https://fc.native-gains.com/wp-content/uploads/2022/11/drawn-out.png
END:VEVENT
BEGIN:VEVENT
DTSTART;TZID=America/New_York:20221119T120000
DTEND;TZID=America/New_York:20221120T170000
DTSTAMP:20260425T084736
CREATED:20220916T135513Z
LAST-MODIFIED:20220916T135643Z
UID:10000218-1668859200-1668963600@fc.native-gains.com
SUMMARY:Fall Open Studios for Fourth Floor Artists
DESCRIPTION:
URL:https://fc.native-gains.com/event/fall-open-studios-for-fourth-floor-artists/
LOCATION:4th Floor Artists – Sandpaper Factory\, Sandpaper Factory 83 E Water street\, rockland\, MA\, 02370\, United States
ATTACH;FMTTYPE=image/jpeg:https://fc.native-gains.com/wp-content/uploads/2022/09/IMG_3060.jpg
END:VEVENT
BEGIN:VEVENT
DTSTART;TZID=America/New_York:20221119T120000
DTEND;TZID=America/New_York:20221120T170000
DTSTAMP:20260425T084736
CREATED:20220916T135513Z
LAST-MODIFIED:20220916T135513Z
UID:10000546-1668859200-1668963600@fc.native-gains.com
SUMMARY:Fall Open Studios for Fourth Floor Artists
DESCRIPTION:
URL:https://fc.native-gains.com/event/fall-open-studios-for-fourth-floor-artists-2/
LOCATION:4th Floor Artists – Sandpaper Factory\, Sandpaper Factory 83 E Water street\, rockland\, MA\, 02370\, United States
ATTACH;FMTTYPE=image/jpeg:https://fc.native-gains.com/wp-content/uploads/2022/09/IMG_3060.jpg
END:VEVENT
BEGIN:VEVENT
DTSTART;TZID=America/New_York:20221113T130000
DTEND;TZID=America/New_York:20221113T170000
DTSTAMP:20260425T084736
CREATED:20221028T203620Z
LAST-MODIFIED:20221028T203620Z
UID:10000548-1668344400-1668358800@fc.native-gains.com
SUMMARY:Meet\, Greet\, Art\, and Shop
DESCRIPTION:
URL:https://fc.native-gains.com/event/meet-greet-art-and-shop-2/
LOCATION:Bay Farm Reality\, 64 Summer Street\, Kingston\, MA\, 02364\, United States
ATTACH;FMTTYPE=image/jpeg:https://fc.native-gains.com/wp-content/uploads/2022/10/IMG_3281.jpg
END:VEVENT
BEGIN:VEVENT
DTSTART;TZID=America/New_York:20221113T130000
DTEND;TZID=America/New_York:20221113T170000
DTSTAMP:20260425T084736
CREATED:20221028T203620Z
LAST-MODIFIED:20221028T203620Z
UID:10000220-1668344400-1668358800@fc.native-gains.com
SUMMARY:Meet\, Greet\, Art\, and Shop
DESCRIPTION:
URL:https://fc.native-gains.com/event/meet-greet-art-and-shop/
LOCATION:Bay Farm Reality\, 64 Summer Street\, Kingston\, MA\, 02364\, United States
ATTACH;FMTTYPE=image/jpeg:https://fc.native-gains.com/wp-content/uploads/2022/10/IMG_3281.jpg
END:VEVENT
BEGIN:VEVENT
DTSTART;TZID=America/New_York:20221101T000000
DTEND;TZID=America/New_York:20221231T235959
DTSTAMP:20260425T084736
CREATED:20221112T143134Z
LAST-MODIFIED:20221112T143134Z
UID:10000551-1667260800-1672531199@fc.native-gains.com
SUMMARY:Restorative Places
DESCRIPTION:Reception/Meet the Artist: Sun Nov 20th from 2:30 pm – 4:30 pm\nRefreshments Served \nWhere: Inside the Meeting Room at:\nPaul Pratt Memorial Library\,\n​35 Ripley Rd.\, Cohasset\, MA \n​Showing through Dec 31st \n​Show/Library Hours:\nMon-Thurs 10:00 am – 8:00 pm\nFri & Sat 10:00 am – 5:00 pm\nSundays 2:00 pm -5:00 pm\nClosed Veterans Day\, Thanksgiving Day\, Black Friday & Christmas Day \nFor Purchases and Inquiries\nYou may contact Lara Williams directly via phone at:  617-448-0764\, via email at: larawilliamsfineart@gmail.com\nor\nThe South Shore Art Center at: 781-383-2787\,  via email at: info@ssac.com
URL:https://fc.native-gains.com/event/restorative-places-2/
LOCATION:Paul Pratt Memeorial Library\, 35 Ripley Road\, Cohasset\, 02025\, United States
ATTACH;FMTTYPE=image/jpeg:https://fc.native-gains.com/wp-content/uploads/2022/11/eb83669c-9d41-477d-9383-3feb8432a8ad-orig.jpeg
END:VEVENT
BEGIN:VEVENT
DTSTART;VALUE=DATE:20221101
DTEND;VALUE=DATE:20230101
DTSTAMP:20260425T084736
CREATED:20221112T143134Z
LAST-MODIFIED:20221112T143134Z
UID:10000226-1667260800-1672531199@fc.native-gains.com
SUMMARY:Restorative Places
DESCRIPTION:Reception/Meet the Artist: Sun Nov 20th from 2:30 pm – 4:30 pm\nRefreshments Served \nWhere: Inside the Meeting Room at:\nPaul Pratt Memorial Library\,\n​35 Ripley Rd.\, Cohasset\, MA \n​Showing through Dec 31st \n​Show/Library Hours:\nMon-Thurs 10:00 am – 8:00 pm\nFri & Sat 10:00 am – 5:00 pm\nSundays 2:00 pm -5:00 pm\nClosed Veterans Day\, Thanksgiving Day\, Black Friday & Christmas Day \nFor Purchases and Inquiries\nYou may contact Lara Williams directly via phone at:  617-448-0764\, via email at: larawilliamsfineart@gmail.com\nor\nThe South Shore Art Center at: 781-383-2787\,  via email at: info@ssac.com
URL:https://fc.native-gains.com/event/restorative-places/
LOCATION:Paul Pratt Memeorial Library\, 35 Ripley Road\, Cohasset\, 02025\, United States
ATTACH;FMTTYPE=image/jpeg:https://fc.native-gains.com/wp-content/uploads/2022/11/eb83669c-9d41-477d-9383-3feb8432a8ad-orig.jpeg
END:VEVENT
BEGIN:VEVENT
DTSTART;VALUE=DATE:20221006
DTEND;VALUE=DATE:20221106
DTSTAMP:20260425T084736
CREATED:20220924T211435Z
LAST-MODIFIED:20220924T211435Z
UID:10000219-1665014400-1667692799@fc.native-gains.com
SUMMARY:Joanne Chittick: Sitting Pretty
DESCRIPTION:JoAnne Chittick: Sitting Pretty \nJoin us for an opening reception on October 6th from 4:00 PM – 6:00 PM at the Copley Society of Art \nThe Copley Society of Art is proud to present Sitting Pretty\, a solo exhibition featuring the work of Co|So Artist Member JoAnne Chittick. The exhibition explores the theme of chairs and the story each one tells through their distinct character\, presence\, and history. The exhibition will be on view in the Lower Gallery Alcove from October 6th – November 5th\, 2022 at the Copley Society of Art\, located at 158 Newbury Street\, Boston\, MA. \nSitting Pretty is comprised of over 40 paintings thematically capturing these chairs’ stories through oil on handmade paper. JoAnne Chittick remarks that the series was inspired by one little yellow antique Swedish chair. “Its design\, color\, and rustic appeal was irresistible\, asking to be drawn and painted. As I looked around my house\, I realized that so many other chairs – soft\, welcoming gingham armchair; sturdy rocker on my studio porch; elegant living room wing chair; little wooden rockers  from the childhoods of my own children\, my mother\, an elderly friend — are each individuals with a special look\, character\, and presence.” – JoAnne Chittick
URL:https://fc.native-gains.com/event/joanne-chittick-sitting-pretty/
LOCATION:Copley Society for Art\, 158 Newbury Street\, Boston\, 02116\, United States
ATTACH;FMTTYPE=image/jpeg:https://fc.native-gains.com/wp-content/uploads/2022/09/copy_of_sculpture_art_exhibit_header_1_0.jpeg
END:VEVENT
BEGIN:VEVENT
DTSTART;TZID=America/New_York:20221006T000000
DTEND;TZID=America/New_York:20221105T235959
DTSTAMP:20260425T084736
CREATED:20220924T211435Z
LAST-MODIFIED:20220924T211435Z
UID:10000547-1665014400-1667692799@fc.native-gains.com
SUMMARY:Joanne Chittick: Sitting Pretty
DESCRIPTION:JoAnne Chittick: Sitting Pretty \nJoin us for an opening reception on October 6th from 4:00 PM – 6:00 PM at the Copley Society of Art \nThe Copley Society of Art is proud to present Sitting Pretty\, a solo exhibition featuring the work of Co|So Artist Member JoAnne Chittick. The exhibition explores the theme of chairs and the story each one tells through their distinct character\, presence\, and history. The exhibition will be on view in the Lower Gallery Alcove from October 6th – November 5th\, 2022 at the Copley Society of Art\, located at 158 Newbury Street\, Boston\, MA. \nSitting Pretty is comprised of over 40 paintings thematically capturing these chairs’ stories through oil on handmade paper. JoAnne Chittick remarks that the series was inspired by one little yellow antique Swedish chair. “Its design\, color\, and rustic appeal was irresistible\, asking to be drawn and painted. As I looked around my house\, I realized that so many other chairs – soft\, welcoming gingham armchair; sturdy rocker on my studio porch; elegant living room wing chair; little wooden rockers  from the childhoods of my own children\, my mother\, an elderly friend — are each individuals with a special look\, character\, and presence.” – JoAnne Chittick
URL:https://fc.native-gains.com/event/joanne-chittick-sitting-pretty-2/
LOCATION:Copley Society for Art\, 158 Newbury Street\, Boston\, 02116\, United States
ATTACH;FMTTYPE=image/jpeg:https://fc.native-gains.com/wp-content/uploads/2022/09/copy_of_sculpture_art_exhibit_header_1_0.jpeg
END:VEVENT
BEGIN:VEVENT
DTSTART;VALUE=DATE:20221001
DTEND;VALUE=DATE:20230101
DTSTAMP:20260425T084736
CREATED:20221112T142509Z
LAST-MODIFIED:20221112T142509Z
UID:10000224-1664582400-1672531199@fc.native-gains.com
SUMMARY:Bending Reality
DESCRIPTION:Helen Bumpus Gallery\npresents\nLynne\nShackleton\nFord\nOctober/December 2022\nThis exhibit includes many examples of the real world being altered through Infrared\, digital painting\, lightbox transparency and studio photography.  While I still enjoy traditional landscape\, flower and nature photography\, I am drawn to the possibilities compositing offers to simply “create” and explore conceptual themes\, environments and emotion. \nPlease visit my website to see more of my work: www.lynneford.com \n 
URL:https://fc.native-gains.com/event/bending-reality/
LOCATION:Duxbury Free Library\, 77 Alden Street\, Duxbury\, MA\, 02231\, United States
ATTACH;FMTTYPE=image/jpeg:https://fc.native-gains.com/wp-content/uploads/2022/11/lsf-image-01-curl-1221-1200-800-100.jpeg
END:VEVENT
BEGIN:VEVENT
DTSTART;TZID=America/New_York:20221001T000000
DTEND;TZID=America/New_York:20221231T235959
DTSTAMP:20260425T084736
CREATED:20221112T142509Z
LAST-MODIFIED:20221112T142509Z
UID:10000550-1664582400-1672531199@fc.native-gains.com
SUMMARY:Bending Reality
DESCRIPTION:Helen Bumpus Gallery\npresents\nLynne\nShackleton\nFord\nOctober/December 2022\nThis exhibit includes many examples of the real world being altered through Infrared\, digital painting\, lightbox transparency and studio photography.  While I still enjoy traditional landscape\, flower and nature photography\, I am drawn to the possibilities compositing offers to simply “create” and explore conceptual themes\, environments and emotion. \nPlease visit my website to see more of my work: www.lynneford.com \n 
URL:https://fc.native-gains.com/event/bending-reality-2/
LOCATION:Duxbury Free Library\, 77 Alden Street\, Duxbury\, MA\, 02231\, United States
ATTACH;FMTTYPE=image/jpeg:https://fc.native-gains.com/wp-content/uploads/2022/11/lsf-image-01-curl-1221-1200-800-100.jpeg
END:VEVENT
END:VCALENDAR