BEGIN:VCALENDAR
VERSION:2.0
PRODID:-//Frame Center - ECPv6.2.9//NONSGML v1.0//EN
CALSCALE:GREGORIAN
METHOD:PUBLISH
X-WR-CALNAME:Frame Center
X-ORIGINAL-URL:https://fc.native-gains.com
X-WR-CALDESC:Events for Frame Center
REFRESH-INTERVAL;VALUE=DURATION:PT1H
X-Robots-Tag:noindex
X-PUBLISHED-TTL:PT1H
BEGIN:VTIMEZONE
TZID:America/New_York
BEGIN:DAYLIGHT
TZOFFSETFROM:-0500
TZOFFSETTO:-0400
TZNAME:EDT
DTSTART:20250309T070000
END:DAYLIGHT
BEGIN:STANDARD
TZOFFSETFROM:-0400
TZOFFSETTO:-0500
TZNAME:EST
DTSTART:20251102T060000
END:STANDARD
END:VTIMEZONE
BEGIN:VEVENT
DTSTART;TZID=America/New_York:20251123T110000
DTEND;TZID=America/New_York:20251123T150000
DTSTAMP:20260421T221159
CREATED:20250730T205453Z
LAST-MODIFIED:20250730T205453Z
UID:10001004-1763895600-1763910000@fc.native-gains.com
SUMMARY:The 52nd Annual Craft Showcase for the Duxbury Art Association
DESCRIPTION:Know Someone Great Who Deserves a Free Frame?\nNominate someone special for a chance to surprise them with a FREE framed photo! \nFor 50 years\, Frame Center has been helping our community preserve its most meaningful memories. As part of our 50th Anniversary Celebration\, we’re giving back in a big way by getting the community involved with Free Frame Friday! \nWe’re selecting 5 deserving winners to receive a FREE frame for their cherished digital photo or artwork. Whether it’s a family portrait\, a child’s artwork\, or a once-in-a-lifetime moment\, we’ll frame it beautifully — and send it straight to your nominee’s door at no cost. 						\n				\n		\n		\n				\n				\n							How It WorksNominate someone special — Fill out the form with their details and the image/art you’d love to gift them.Tell us why — Share a short reason why your nominee deserves this free frame.Nomination deadline: Friday\, October 10thThe winner will be announced on social media Friday\, October 1\,7 featuring Ross Murray.
URL:https://fc.native-gains.com/event/the-52nd-annual-craft-showcase-for-the-duxbury-art-association/2025-11-23/
LOCATION:Duxbury High School\, 71 Alden St\, Duxbury\, MA\, 02332\, United States
CATEGORIES:Openings/ Weekend Events
ATTACH;FMTTYPE=image/jpeg:https://fc.native-gains.com/wp-content/uploads/2025/07/Duxbury-Craft-show-2025-e1753908554794.jpeg
END:VEVENT
BEGIN:VEVENT
DTSTART;TZID=America/New_York:20251123T110000
DTEND;TZID=America/New_York:20251123T150000
DTSTAMP:20260421T221159
CREATED:20250917T144050Z
LAST-MODIFIED:20250917T144050Z
UID:10001052-1763895600-1763910000@fc.native-gains.com
SUMMARY:Duxbury Art Association’s 52nd Annual Juried Craft Showcase
DESCRIPTION:Know Someone Great Who Deserves a Free Frame?\nNominate someone special for a chance to surprise them with a FREE framed photo! \nFor 50 years\, Frame Center has been helping our community preserve its most meaningful memories. As part of our 50th Anniversary Celebration\, we’re giving back in a big way by getting the community involved with Free Frame Friday! \nWe’re selecting 5 deserving winners to receive a FREE frame for their cherished digital photo or artwork. Whether it’s a family portrait\, a child’s artwork\, or a once-in-a-lifetime moment\, we’ll frame it beautifully — and send it straight to your nominee’s door at no cost. 						\n				\n		\n		\n				\n				\n							How It WorksNominate someone special — Fill out the form with their details and the image/art you’d love to gift them.Tell us why — Share a short reason why your nominee deserves this free frame.Nomination deadline: Friday\, October 10thThe winner will be announced on social media Friday\, October 1\,7 featuring Ross Murray.
URL:https://fc.native-gains.com/event/duxbury-art-associations-52nd-annual-juried-craft-showcase/2025-11-23/
LOCATION:Duxbury High School\, 71 Alden St\, Duxbury\, MA\, 02332\, United States
CATEGORIES:Openings/ Weekend Events
ATTACH;FMTTYPE=image/jpeg:https://fc.native-gains.com/wp-content/uploads/2025/09/Screen-Shot-2025-09-17-at-10.35.32-AM.jpeg
END:VEVENT
BEGIN:VEVENT
DTSTART;TZID=America/New_York:20251204T173000
DTEND;TZID=America/New_York:20251204T203000
DTSTAMP:20260421T221159
CREATED:20250908T173132Z
LAST-MODIFIED:20250908T173838Z
UID:10001034-1764869400-1764880200@fc.native-gains.com
SUMMARY:First Wednesday's at The Wright Building
DESCRIPTION:Know Someone Great Who Deserves a Free Frame?\nNominate someone special for a chance to surprise them with a FREE framed photo! \nFor 50 years\, Frame Center has been helping our community preserve its most meaningful memories. As part of our 50th Anniversary Celebration\, we’re giving back in a big way by getting the community involved with Free Frame Friday! \nWe’re selecting 5 deserving winners to receive a FREE frame for their cherished digital photo or artwork. Whether it’s a family portrait\, a child’s artwork\, or a once-in-a-lifetime moment\, we’ll frame it beautifully — and send it straight to your nominee’s door at no cost. 						\n				\n		\n		\n				\n				\n							How It WorksNominate someone special — Fill out the form with their details and the image/art you’d love to gift them.Tell us why — Share a short reason why your nominee deserves this free frame.Nomination deadline: Friday\, October 10thThe winner will be announced on social media Friday\, October 1\,7 featuring Ross Murray.
URL:https://fc.native-gains.com/event/first-wednesdays-at-the-wright-building/2025-12-04/
LOCATION:4th Floor Artists\, E.T. WRIGHT BUILDING | 379 LIBERTY ST\, rockland\, MA\, 02370\, United States
CATEGORIES:Openings/ Weekend Events
ATTACH;FMTTYPE=image/jpeg:https://fc.native-gains.com/wp-content/uploads/2025/09/IMG_7125-e1757352662667.jpeg
END:VEVENT
END:VCALENDAR