BEGIN:VCALENDAR
VERSION:2.0
PRODID:-//Frame Center - ECPv6.2.9//NONSGML v1.0//EN
CALSCALE:GREGORIAN
METHOD:PUBLISH
X-WR-CALNAME:Frame Center
X-ORIGINAL-URL:https://fc.native-gains.com
X-WR-CALDESC:Events for Frame Center
REFRESH-INTERVAL;VALUE=DURATION:PT1H
X-Robots-Tag:noindex
X-PUBLISHED-TTL:PT1H
BEGIN:VTIMEZONE
TZID:America/New_York
BEGIN:DAYLIGHT
TZOFFSETFROM:-0500
TZOFFSETTO:-0400
TZNAME:EDT
DTSTART:20230312T070000
END:DAYLIGHT
BEGIN:STANDARD
TZOFFSETFROM:-0400
TZOFFSETTO:-0500
TZNAME:EST
DTSTART:20231105T060000
END:STANDARD
BEGIN:DAYLIGHT
TZOFFSETFROM:-0500
TZOFFSETTO:-0400
TZNAME:EDT
DTSTART:20240310T070000
END:DAYLIGHT
BEGIN:STANDARD
TZOFFSETFROM:-0400
TZOFFSETTO:-0500
TZNAME:EST
DTSTART:20241103T060000
END:STANDARD
END:VTIMEZONE
BEGIN:VEVENT
DTSTART;TZID=America/New_York:20240202T100000
DTEND;TZID=America/New_York:20240210T180000
DTSTAMP:20260424T153206
CREATED:20240201T204417Z
LAST-MODIFIED:20240201T204417Z
UID:10000321-1706868000-1707588000@fc.native-gains.com
SUMMARY:Works of the Heart
DESCRIPTION:Photography by Bart Blumberg. The opening reception will be on Friday\, August 29th\, 5:30-7:00 PM. Location: Ventress Library in Marshfield\, MA  Sponsored by NRAS 
URL:https://fc.native-gains.com/event/works-of-the-heart/
LOCATION:Native\, 51 Front St\, Scituate\, MA\, 02066\, United States
ATTACH;FMTTYPE=image/jpeg:https://fc.native-gains.com/wp-content/uploads/2024/02/wothlogo.jpeg
END:VEVENT
BEGIN:VEVENT
DTSTART;TZID=America/New_York:20240202T100000
DTEND;TZID=America/New_York:20240210T180000
DTSTAMP:20260424T153207
CREATED:20240201T204417Z
LAST-MODIFIED:20240201T204417Z
UID:10000669-1706868000-1707588000@fc.native-gains.com
SUMMARY:Works of the Heart
DESCRIPTION:Photography by Bart Blumberg. The opening reception will be on Friday\, August 29th\, 5:30-7:00 PM. Location: Ventress Library in Marshfield\, MA  Sponsored by NRAS 
URL:https://fc.native-gains.com/event/works-of-the-heart-2/
LOCATION:Native\, 51 Front St\, Scituate\, MA\, 02066\, United States
ATTACH;FMTTYPE=image/jpeg:https://fc.native-gains.com/wp-content/uploads/2024/02/wothlogo.jpeg
END:VEVENT
BEGIN:VEVENT
DTSTART;TZID=America/New_York:20240201T000000
DTEND;TZID=America/New_York:20240304T235959
DTSTAMP:20260424T153207
CREATED:20240207T210635Z
LAST-MODIFIED:20240207T210635Z
UID:10000326-1706745600-1709596799@fc.native-gains.com
SUMMARY:SSAC Gallery SpotLIGHT - Moey Lane
DESCRIPTION:Photography by Bart Blumberg. The opening reception will be on Friday\, August 29th\, 5:30-7:00 PM. Location: Ventress Library in Marshfield\, MA  Sponsored by NRAS 
URL:https://fc.native-gains.com/event/ssac-gallery-spotlight-moey-lane/
LOCATION:SSAC\, 119 Ripley Rd\, Cohasset\, MA\, United States
ATTACH;FMTTYPE=image/jpeg:https://fc.native-gains.com/wp-content/uploads/2024/02/MLane-Bubalas-Door-W239.jpeg
END:VEVENT
BEGIN:VEVENT
DTSTART;TZID=America/New_York:20240201T000000
DTEND;TZID=America/New_York:20240304T235959
DTSTAMP:20260424T153207
CREATED:20240207T210635Z
LAST-MODIFIED:20240207T210635Z
UID:10000674-1706745600-1709596799@fc.native-gains.com
SUMMARY:SSAC Gallery SpotLIGHT - Moey Lane
DESCRIPTION:Photography by Bart Blumberg. The opening reception will be on Friday\, August 29th\, 5:30-7:00 PM. Location: Ventress Library in Marshfield\, MA  Sponsored by NRAS 
URL:https://fc.native-gains.com/event/ssac-gallery-spotlight-moey-lane-2/
LOCATION:SSAC\, 119 Ripley Rd\, Cohasset\, MA\, United States
ATTACH;FMTTYPE=image/jpeg:https://fc.native-gains.com/wp-content/uploads/2024/02/MLane-Bubalas-Door-W239.jpeg
END:VEVENT
BEGIN:VEVENT
DTSTART;TZID=America/New_York:20240201T000000
DTEND;TZID=America/New_York:20240225T235959
DTSTAMP:20260424T153207
CREATED:20240208T200432Z
LAST-MODIFIED:20240208T200432Z
UID:10000328-1706745600-1708905599@fc.native-gains.com
SUMMARY:"Fantasy Designs"
DESCRIPTION:Photography by Bart Blumberg. The opening reception will be on Friday\, August 29th\, 5:30-7:00 PM. Location: Ventress Library in Marshfield\, MA  Sponsored by NRAS 
URL:https://fc.native-gains.com/event/fantasy-designs/
LOCATION:Front Street Gallery\, 124 Front Street\, Scituate\, MA\, United States
ATTACH;FMTTYPE=image/jpeg:https://fc.native-gains.com/wp-content/uploads/2024/02/Feb-2024-Fantasy-v1_0.jpg
ORGANIZER;CN="Scituate Arts Association":MAILTO:ScituateArtsAssociation@gmail.com
END:VEVENT
BEGIN:VEVENT
DTSTART;TZID=America/New_York:20240201T000000
DTEND;TZID=America/New_York:20240225T235959
DTSTAMP:20260424T153207
CREATED:20240208T200432Z
LAST-MODIFIED:20240208T200432Z
UID:10000676-1706745600-1708905599@fc.native-gains.com
SUMMARY:"Fantasy Designs"
DESCRIPTION:Photography by Bart Blumberg. The opening reception will be on Friday\, August 29th\, 5:30-7:00 PM. Location: Ventress Library in Marshfield\, MA  Sponsored by NRAS 
URL:https://fc.native-gains.com/event/fantasy-designs-2/
LOCATION:Front Street Gallery\, 124 Front Street\, Scituate\, MA\, United States
ATTACH;FMTTYPE=image/jpeg:https://fc.native-gains.com/wp-content/uploads/2024/02/Feb-2024-Fantasy-v1_0.jpg
ORGANIZER;CN="Scituate Arts Association":MAILTO:ScituateArtsAssociation@gmail.com
END:VEVENT
BEGIN:VEVENT
DTSTART;TZID=America/New_York:20240124T000000
DTEND;TZID=America/New_York:20240221T235959
DTSTAMP:20260424T153207
CREATED:20240201T214147Z
LAST-MODIFIED:20240201T214147Z
UID:10000670-1706054400-1708559999@fc.native-gains.com
SUMMARY:Call for Artists "iPhonography 2024 Show"
DESCRIPTION:Photography by Bart Blumberg. The opening reception will be on Friday\, August 29th\, 5:30-7:00 PM. Location: Ventress Library in Marshfield\, MA  Sponsored by NRAS 
URL:https://fc.native-gains.com/event/call-for-artists-iphonography-2024-show-2/
LOCATION:Plymouth Center for the Arts\, 11 North Street\, Plymouth\, MA\, 02360\, United States
ATTACH;FMTTYPE=image/jpeg:https://fc.native-gains.com/wp-content/uploads/2024/02/iPhono-3x4-JPG_1704204371.jpg
END:VEVENT
BEGIN:VEVENT
DTSTART;TZID=America/New_York:20240124T000000
DTEND;TZID=America/New_York:20240221T235959
DTSTAMP:20260424T153207
CREATED:20240201T214147Z
LAST-MODIFIED:20240201T214147Z
UID:10000322-1706054400-1708559999@fc.native-gains.com
SUMMARY:Call for Artists "iPhonography 2024 Show"
DESCRIPTION:Photography by Bart Blumberg. The opening reception will be on Friday\, August 29th\, 5:30-7:00 PM. Location: Ventress Library in Marshfield\, MA  Sponsored by NRAS 
URL:https://fc.native-gains.com/event/call-for-artists-iphonography-2024-show/
LOCATION:Plymouth Center for the Arts\, 11 North Street\, Plymouth\, MA\, 02360\, United States
ATTACH;FMTTYPE=image/jpeg:https://fc.native-gains.com/wp-content/uploads/2024/02/iPhono-3x4-JPG_1704204371.jpg
END:VEVENT
BEGIN:VEVENT
DTSTART;TZID=America/New_York:20240118T000000
DTEND;TZID=America/New_York:20240222T235959
DTSTAMP:20260424T153207
CREATED:20240208T203032Z
LAST-MODIFIED:20240208T203032Z
UID:10000678-1705536000-1708646399@fc.native-gains.com
SUMMARY:"Winter Daydreams"
DESCRIPTION:Photography by Bart Blumberg. The opening reception will be on Friday\, August 29th\, 5:30-7:00 PM. Location: Ventress Library in Marshfield\, MA  Sponsored by NRAS 
URL:https://fc.native-gains.com/event/winter-daydreams-2/
LOCATION:Nantasket Beach Resort\, 45 Hull Shore Drive\, Hull\, MA\, United States
ATTACH;FMTTYPE=image/jpeg:https://fc.native-gains.com/wp-content/uploads/2024/02/20240120_152332-01-scaled-1.jpeg
ORGANIZER;CN="Hull Artists":MAILTO:info@hullartists.com
END:VEVENT
BEGIN:VEVENT
DTSTART;TZID=America/New_York:20240118T000000
DTEND;TZID=America/New_York:20240222T235959
DTSTAMP:20260424T153207
CREATED:20240208T203032Z
LAST-MODIFIED:20240208T203032Z
UID:10000330-1705536000-1708646399@fc.native-gains.com
SUMMARY:"Winter Daydreams"
DESCRIPTION:Photography by Bart Blumberg. The opening reception will be on Friday\, August 29th\, 5:30-7:00 PM. Location: Ventress Library in Marshfield\, MA  Sponsored by NRAS 
URL:https://fc.native-gains.com/event/winter-daydreams/
LOCATION:Nantasket Beach Resort\, 45 Hull Shore Drive\, Hull\, MA\, United States
ATTACH;FMTTYPE=image/jpeg:https://fc.native-gains.com/wp-content/uploads/2024/02/20240120_152332-01-scaled-1.jpeg
ORGANIZER;CN="Hull Artists":MAILTO:info@hullartists.com
END:VEVENT
BEGIN:VEVENT
DTSTART;VALUE=DATE:20240117
DTEND;VALUE=DATE:20240219
DTSTAMP:20260424T153207
CREATED:20240112T155929Z
LAST-MODIFIED:20240112T155952Z
UID:10000317-1705449600-1708300799@fc.native-gains.com
SUMMARY:"Illuminate"
DESCRIPTION:Photography by Bart Blumberg. The opening reception will be on Friday\, August 29th\, 5:30-7:00 PM. Location: Ventress Library in Marshfield\, MA  Sponsored by NRAS 
URL:https://fc.native-gains.com/event/illuminate/
LOCATION:Plymouth Center for the Arts\, 11 North Street\, Plymouth\, MA\, 02360\, United States
ATTACH;FMTTYPE=image/jpeg:https://fc.native-gains.com/wp-content/uploads/2024/01/ILLUMINATE.jpg
END:VEVENT
BEGIN:VEVENT
DTSTART;TZID=America/New_York:20240117T000000
DTEND;TZID=America/New_York:20240218T235959
DTSTAMP:20260424T153207
CREATED:20240112T155929Z
LAST-MODIFIED:20240112T155929Z
UID:10000665-1705449600-1708300799@fc.native-gains.com
SUMMARY:"Illuminate"
DESCRIPTION:Photography by Bart Blumberg. The opening reception will be on Friday\, August 29th\, 5:30-7:00 PM. Location: Ventress Library in Marshfield\, MA  Sponsored by NRAS 
URL:https://fc.native-gains.com/event/illuminate-2/
LOCATION:Plymouth Center for the Arts\, 11 North Street\, Plymouth\, MA\, 02360\, United States
ATTACH;FMTTYPE=image/jpeg:https://fc.native-gains.com/wp-content/uploads/2024/01/ILLUMINATE.jpg
END:VEVENT
BEGIN:VEVENT
DTSTART;TZID=America/New_York:20240117T000000
DTEND;TZID=America/New_York:20240218T235959
DTSTAMP:20260424T153207
CREATED:20240131T215342Z
LAST-MODIFIED:20240131T215342Z
UID:10000668-1705449600-1708300799@fc.native-gains.com
SUMMARY:Call for Artists - James Library 5th Annual Spring Juried Art Show
DESCRIPTION:Photography by Bart Blumberg. The opening reception will be on Friday\, August 29th\, 5:30-7:00 PM. Location: Ventress Library in Marshfield\, MA  Sponsored by NRAS 
URL:https://fc.native-gains.com/event/call-for-artists-james-library-5th-annual-spring-juried-art-show-2/
LOCATION:The James Library  & Center for the Arts\, 24 West Street\, Norwell\, MA\, United States
ATTACH;FMTTYPE=image/jpeg:https://fc.native-gains.com/wp-content/uploads/2024/01/IMG_7385-e1713131818512.jpeg
END:VEVENT
BEGIN:VEVENT
DTSTART;TZID=America/New_York:20240117T000000
DTEND;TZID=America/New_York:20240218T235959
DTSTAMP:20260424T153207
CREATED:20240131T215342Z
LAST-MODIFIED:20240131T215342Z
UID:10000320-1705449600-1708300799@fc.native-gains.com
SUMMARY:Call for Artists - James Library 5th Annual Spring Juried Art Show
DESCRIPTION:Photography by Bart Blumberg. The opening reception will be on Friday\, August 29th\, 5:30-7:00 PM. Location: Ventress Library in Marshfield\, MA  Sponsored by NRAS 
URL:https://fc.native-gains.com/event/call-for-artists-james-library-5th-annual-spring-juried-art-show/
LOCATION:The James Library  & Center for the Arts\, 24 West Street\, Norwell\, MA\, United States
ATTACH;FMTTYPE=image/jpeg:https://fc.native-gains.com/wp-content/uploads/2024/01/IMG_7385-e1713131818512.jpeg
END:VEVENT
BEGIN:VEVENT
DTSTART;TZID=America/New_York:20240112T000000
DTEND;TZID=America/New_York:20240322T235959
DTSTAMP:20260424T153207
CREATED:20240208T201632Z
LAST-MODIFIED:20240208T201632Z
UID:10000329-1705017600-1711151999@fc.native-gains.com
SUMMARY:'Structure"
DESCRIPTION:Photography by Bart Blumberg. The opening reception will be on Friday\, August 29th\, 5:30-7:00 PM. Location: Ventress Library in Marshfield\, MA  Sponsored by NRAS 
URL:https://fc.native-gains.com/event/structure/
LOCATION:Hull Public Library\, 9 Main Street\, Hull\, MA\, United States
ATTACH;FMTTYPE=image/jpeg:https://fc.native-gains.com/wp-content/uploads/2024/02/Library-Structure-scaled-1.jpeg
ORGANIZER;CN="Hull Artists":MAILTO:info@hullartists.com
END:VEVENT
BEGIN:VEVENT
DTSTART;TZID=America/New_York:20240112T000000
DTEND;TZID=America/New_York:20240322T235959
DTSTAMP:20260424T153207
CREATED:20240208T201632Z
LAST-MODIFIED:20240208T201632Z
UID:10000677-1705017600-1711151999@fc.native-gains.com
SUMMARY:'Structure"
DESCRIPTION:Photography by Bart Blumberg. The opening reception will be on Friday\, August 29th\, 5:30-7:00 PM. Location: Ventress Library in Marshfield\, MA  Sponsored by NRAS 
URL:https://fc.native-gains.com/event/structure-2/
LOCATION:Hull Public Library\, 9 Main Street\, Hull\, MA\, United States
ATTACH;FMTTYPE=image/jpeg:https://fc.native-gains.com/wp-content/uploads/2024/02/Library-Structure-scaled-1.jpeg
ORGANIZER;CN="Hull Artists":MAILTO:info@hullartists.com
END:VEVENT
BEGIN:VEVENT
DTSTART;VALUE=DATE:20240111
DTEND;VALUE=DATE:20240211
DTSTAMP:20260424T153207
CREATED:20240111T221446Z
LAST-MODIFIED:20240111T221506Z
UID:10000316-1704931200-1707609599@fc.native-gains.com
SUMMARY:"Whiplash"
DESCRIPTION:Photography by Bart Blumberg. The opening reception will be on Friday\, August 29th\, 5:30-7:00 PM. Location: Ventress Library in Marshfield\, MA  Sponsored by NRAS 
URL:https://fc.native-gains.com/event/whiplash/
LOCATION:SSAC\, 119 Ripley Rd\, Cohasset\, MA\, United States
ATTACH;FMTTYPE=image/jpeg:https://fc.native-gains.com/wp-content/uploads/2024/01/IMG_5683.jpg
END:VEVENT
BEGIN:VEVENT
DTSTART;TZID=America/New_York:20240111T000000
DTEND;TZID=America/New_York:20240210T235959
DTSTAMP:20260424T153207
CREATED:20240111T221446Z
LAST-MODIFIED:20240111T221446Z
UID:10000664-1704931200-1707609599@fc.native-gains.com
SUMMARY:"Whiplash"
DESCRIPTION:Photography by Bart Blumberg. The opening reception will be on Friday\, August 29th\, 5:30-7:00 PM. Location: Ventress Library in Marshfield\, MA  Sponsored by NRAS 
URL:https://fc.native-gains.com/event/whiplash-2/
LOCATION:SSAC\, 119 Ripley Rd\, Cohasset\, MA\, United States
ATTACH;FMTTYPE=image/jpeg:https://fc.native-gains.com/wp-content/uploads/2024/01/IMG_5683.jpg
END:VEVENT
BEGIN:VEVENT
DTSTART;VALUE=DATE:20240106
DTEND;VALUE=DATE:20240225
DTSTAMP:20260424T153207
CREATED:20231220T223318Z
LAST-MODIFIED:20231220T223318Z
UID:10000304-1704499200-1708819199@fc.native-gains.com
SUMMARY:Jack Haran and His Students Show
DESCRIPTION:Photography by Bart Blumberg. The opening reception will be on Friday\, August 29th\, 5:30-7:00 PM. Location: Ventress Library in Marshfield\, MA  Sponsored by NRAS 
URL:https://fc.native-gains.com/event/jack-haran-and-his-students-show/
LOCATION:Ventress Memorial Library\, 1837 Ocean Street/route 139\, Marshfield\, 02050\, United States
ATTACH;FMTTYPE=image/jpeg:https://fc.native-gains.com/wp-content/uploads/2023/12/IMG_5576-scaled.jpg
END:VEVENT
BEGIN:VEVENT
DTSTART;TZID=America/New_York:20240106T000000
DTEND;TZID=America/New_York:20240224T235959
DTSTAMP:20260424T153207
CREATED:20231220T223318Z
LAST-MODIFIED:20231220T223318Z
UID:10000652-1704499200-1708819199@fc.native-gains.com
SUMMARY:Jack Haran and His Students Show
DESCRIPTION:Photography by Bart Blumberg. The opening reception will be on Friday\, August 29th\, 5:30-7:00 PM. Location: Ventress Library in Marshfield\, MA  Sponsored by NRAS 
URL:https://fc.native-gains.com/event/jack-haran-and-his-students-show-2/
LOCATION:Ventress Memorial Library\, 1837 Ocean Street/route 139\, Marshfield\, 02050\, United States
ATTACH;FMTTYPE=image/jpeg:https://fc.native-gains.com/wp-content/uploads/2023/12/IMG_5576-scaled.jpg
END:VEVENT
BEGIN:VEVENT
DTSTART;TZID=America/New_York:20240106T000000
DTEND;TZID=America/New_York:20240202T235959
DTSTAMP:20260424T153207
CREATED:20240111T184558Z
LAST-MODIFIED:20240111T184558Z
UID:10000663-1704499200-1706918399@fc.native-gains.com
SUMMARY:Forsaken Spaces
DESCRIPTION:Photography by Bart Blumberg. The opening reception will be on Friday\, August 29th\, 5:30-7:00 PM. Location: Ventress Library in Marshfield\, MA  Sponsored by NRAS 
URL:https://fc.native-gains.com/event/forsaken-spaces-2/
LOCATION:Hingham Library’s Dolphin Gallery\, 66 Leavitt Street\, Hingham\, MA\, United States
ATTACH;FMTTYPE=image/jpeg:https://fc.native-gains.com/wp-content/uploads/2024/01/Conforti-Season_of_Decay_Lo.jpeg
END:VEVENT
BEGIN:VEVENT
DTSTART;VALUE=DATE:20240106
DTEND;VALUE=DATE:20240203
DTSTAMP:20260424T153207
CREATED:20240111T184558Z
LAST-MODIFIED:20240111T184641Z
UID:10000315-1704499200-1706918399@fc.native-gains.com
SUMMARY:Forsaken Spaces
DESCRIPTION:Photography by Bart Blumberg. The opening reception will be on Friday\, August 29th\, 5:30-7:00 PM. Location: Ventress Library in Marshfield\, MA  Sponsored by NRAS 
URL:https://fc.native-gains.com/event/forsaken-spaces/
LOCATION:Hingham Library’s Dolphin Gallery\, 66 Leavitt Street\, Hingham\, MA\, United States
ATTACH;FMTTYPE=image/jpeg:https://fc.native-gains.com/wp-content/uploads/2024/01/Conforti-Season_of_Decay_Lo.jpeg
END:VEVENT
BEGIN:VEVENT
DTSTART;TZID=America/New_York:20231214T180000
DTEND;TZID=America/New_York:20231214T200000
DTSTAMP:20260424T153207
CREATED:20231207T225116Z
LAST-MODIFIED:20231207T225116Z
UID:10000303-1702576800-1702584000@fc.native-gains.com
SUMMARY:Holiday Show Party!!! at the Frame Center Gallery
DESCRIPTION:Photography by Bart Blumberg. The opening reception will be on Friday\, August 29th\, 5:30-7:00 PM. Location: Ventress Library in Marshfield\, MA  Sponsored by NRAS 
URL:https://fc.native-gains.com/event/holiday-show-party-at-the-frame-center-gallery/
LOCATION:Frame Center Hanover\, 152 Rockland Street\, Hanover\, MA\, 02339\, United States
ATTACH;FMTTYPE=image/jpeg:https://fc.native-gains.com/wp-content/uploads/2023/12/IMG_5476.jpg
END:VEVENT
BEGIN:VEVENT
DTSTART;TZID=America/New_York:20231214T180000
DTEND;TZID=America/New_York:20231214T200000
DTSTAMP:20260424T153207
CREATED:20231207T225116Z
LAST-MODIFIED:20231207T225116Z
UID:10000651-1702576800-1702584000@fc.native-gains.com
SUMMARY:Holiday Show Party!!! at the Frame Center Gallery
DESCRIPTION:Photography by Bart Blumberg. The opening reception will be on Friday\, August 29th\, 5:30-7:00 PM. Location: Ventress Library in Marshfield\, MA  Sponsored by NRAS 
URL:https://fc.native-gains.com/event/holiday-show-party-at-the-frame-center-gallery-2/
LOCATION:Frame Center Hanover\, 152 Rockland Street\, Hanover\, MA\, 02339\, United States
ATTACH;FMTTYPE=image/jpeg:https://fc.native-gains.com/wp-content/uploads/2023/12/IMG_5476.jpg
END:VEVENT
BEGIN:VEVENT
DTSTART;TZID=America/New_York:20231202T120000
DTEND;TZID=America/New_York:20231203T160000
DTSTAMP:20260424T153207
CREATED:20231129T215439Z
LAST-MODIFIED:20231129T215439Z
UID:10000648-1701518400-1701619200@fc.native-gains.com
SUMMARY:Artisan Craft Fair - Duxbury Art Complex
DESCRIPTION:Photography by Bart Blumberg. The opening reception will be on Friday\, August 29th\, 5:30-7:00 PM. Location: Ventress Library in Marshfield\, MA  Sponsored by NRAS 
URL:https://fc.native-gains.com/event/artisan-craft-fair-duxbury-art-complex-2/
LOCATION:The Art Complex Museum\, 189 Alden Street\, Duxbury\, 02332\, United States
ATTACH;FMTTYPE=image/jpeg:https://fc.native-gains.com/wp-content/uploads/2023/11/LOGO_Final_2023-600x597-1.jpeg
END:VEVENT
BEGIN:VEVENT
DTSTART;TZID=America/New_York:20231202T120000
DTEND;TZID=America/New_York:20231203T160000
DTSTAMP:20260424T153207
CREATED:20231129T215439Z
LAST-MODIFIED:20231129T215439Z
UID:10000300-1701518400-1701619200@fc.native-gains.com
SUMMARY:Artisan Craft Fair - Duxbury Art Complex
DESCRIPTION:Photography by Bart Blumberg. The opening reception will be on Friday\, August 29th\, 5:30-7:00 PM. Location: Ventress Library in Marshfield\, MA  Sponsored by NRAS 
URL:https://fc.native-gains.com/event/artisan-craft-fair-duxbury-art-complex/
LOCATION:The Art Complex Museum\, 189 Alden Street\, Duxbury\, 02332\, United States
ATTACH;FMTTYPE=image/jpeg:https://fc.native-gains.com/wp-content/uploads/2023/11/LOGO_Final_2023-600x597-1.jpeg
END:VEVENT
BEGIN:VEVENT
DTSTART;TZID=America/New_York:20231201T180000
DTEND;TZID=America/New_York:20231201T200000
DTSTAMP:20260424T153207
CREATED:20231129T224824Z
LAST-MODIFIED:20231129T224824Z
UID:10000301-1701453600-1701460800@fc.native-gains.com
SUMMARY:Come See Santa!
DESCRIPTION:Photography by Bart Blumberg. The opening reception will be on Friday\, August 29th\, 5:30-7:00 PM. Location: Ventress Library in Marshfield\, MA  Sponsored by NRAS 
URL:https://fc.native-gains.com/event/come-see-santa/
LOCATION:Plymouth Center for the Arts\, 11 North Street\, Plymouth\, MA\, 02360\, United States
ATTACH;FMTTYPE=image/webp:https://fc.native-gains.com/wp-content/uploads/2023/11/Santa-Event-Graphic-for-website_1700355146.png.webp
END:VEVENT
BEGIN:VEVENT
DTSTART;TZID=America/New_York:20231201T180000
DTEND;TZID=America/New_York:20231201T200000
DTSTAMP:20260424T153207
CREATED:20231129T224824Z
LAST-MODIFIED:20231129T224824Z
UID:10000649-1701453600-1701460800@fc.native-gains.com
SUMMARY:Come See Santa!
DESCRIPTION:Photography by Bart Blumberg. The opening reception will be on Friday\, August 29th\, 5:30-7:00 PM. Location: Ventress Library in Marshfield\, MA  Sponsored by NRAS 
URL:https://fc.native-gains.com/event/come-see-santa-2/
LOCATION:Plymouth Center for the Arts\, 11 North Street\, Plymouth\, MA\, 02360\, United States
ATTACH;FMTTYPE=image/webp:https://fc.native-gains.com/wp-content/uploads/2023/11/Santa-Event-Graphic-for-website_1700355146.png.webp
END:VEVENT
BEGIN:VEVENT
DTSTART;TZID=America/New_York:20231201T000000
DTEND;TZID=America/New_York:20240105T235959
DTSTAMP:20260424T153207
CREATED:20231124T155819Z
LAST-MODIFIED:20231124T155819Z
UID:10000646-1701388800-1704499199@fc.native-gains.com
SUMMARY:"Cheers" by Tina Watson
DESCRIPTION:Photography by Bart Blumberg. The opening reception will be on Friday\, August 29th\, 5:30-7:00 PM. Location: Ventress Library in Marshfield\, MA  Sponsored by NRAS 
URL:https://fc.native-gains.com/event/cheers-by-tina-watson-2/
LOCATION:Hingham Library’s Dolphin Gallery\, 66 Leavitt Street\, Hingham\, MA\, United States
ATTACH;FMTTYPE=image/jpeg:https://fc.native-gains.com/wp-content/uploads/2023/11/Cheers.jpeg
END:VEVENT
BEGIN:VEVENT
DTSTART;VALUE=DATE:20231201
DTEND;VALUE=DATE:20240106
DTSTAMP:20260424T153207
CREATED:20231124T155819Z
LAST-MODIFIED:20231124T155819Z
UID:10000236-1701388800-1704499199@fc.native-gains.com
SUMMARY:"Cheers" by Tina Watson
DESCRIPTION:Photography by Bart Blumberg. The opening reception will be on Friday\, August 29th\, 5:30-7:00 PM. Location: Ventress Library in Marshfield\, MA  Sponsored by NRAS 
URL:https://fc.native-gains.com/event/cheers-by-tina-watson/
LOCATION:Hingham Library’s Dolphin Gallery\, 66 Leavitt Street\, Hingham\, MA\, United States
ATTACH;FMTTYPE=image/jpeg:https://fc.native-gains.com/wp-content/uploads/2023/11/Cheers.jpeg
END:VEVENT
END:VCALENDAR