BEGIN:VCALENDAR
VERSION:2.0
PRODID:-//Frame Center - ECPv6.2.9//NONSGML v1.0//EN
CALSCALE:GREGORIAN
METHOD:PUBLISH
X-WR-CALNAME:Frame Center
X-ORIGINAL-URL:https://fc.native-gains.com
X-WR-CALDESC:Events for Frame Center
REFRESH-INTERVAL;VALUE=DURATION:PT1H
X-Robots-Tag:noindex
X-PUBLISHED-TTL:PT1H
BEGIN:VTIMEZONE
TZID:America/New_York
BEGIN:DAYLIGHT
TZOFFSETFROM:-0500
TZOFFSETTO:-0400
TZNAME:EDT
DTSTART:20240310T070000
END:DAYLIGHT
BEGIN:STANDARD
TZOFFSETFROM:-0400
TZOFFSETTO:-0500
TZNAME:EST
DTSTART:20241103T060000
END:STANDARD
END:VTIMEZONE
BEGIN:VEVENT
DTSTART;TZID=America/New_York:20240308T000000
DTEND;TZID=America/New_York:20240508T235959
DTSTAMP:20260423T031914
CREATED:20240322T162208Z
LAST-MODIFIED:20240322T162208Z
UID:10000694-1709856000-1715212799@fc.native-gains.com
SUMMARY:New England Watercolor Society "Spring Into Art" 2024
DESCRIPTION:Photography by Bart Blumberg. The opening reception will be on Friday\, August 29th\, 5:30-7:00 PM. Location: Ventress Library in Marshfield\, MA  Sponsored by NRAS 
URL:https://fc.native-gains.com/event/new-england-watercolor-society-spring-into-art-2024-2/
LOCATION:Plymouth Center for the Arts\, 11 North Street\, Plymouth\, MA\, 02360\, United States
CATEGORIES:Local Shows
ATTACH;FMTTYPE=image/jpeg:https://fc.native-gains.com/wp-content/uploads/2024/03/2024-Spring-Into-Art-All-Members-Show_Page_1_1710179736.jpg
END:VEVENT
BEGIN:VEVENT
DTSTART;TZID=America/New_York:20240306T000000
DTEND;TZID=America/New_York:20240407T235959
DTSTAMP:20260423T031914
CREATED:20240201T220419Z
LAST-MODIFIED:20240201T220419Z
UID:10000671-1709683200-1712534399@fc.native-gains.com
SUMMARY:iPhonography 2024
DESCRIPTION:Photography by Bart Blumberg. The opening reception will be on Friday\, August 29th\, 5:30-7:00 PM. Location: Ventress Library in Marshfield\, MA  Sponsored by NRAS 
URL:https://fc.native-gains.com/event/iphonography-2024-2/
LOCATION:Plymouth Center for the Arts\, 11 North Street\, Plymouth\, MA\, 02360\, United States
CATEGORIES:Local Shows
ATTACH;FMTTYPE=image/jpeg:https://fc.native-gains.com/wp-content/uploads/2024/02/iPhono-3x4-JPG_1704204371.jpg
END:VEVENT
BEGIN:VEVENT
DTSTART;TZID=America/New_York:20240306T000000
DTEND;TZID=America/New_York:20240407T235959
DTSTAMP:20260423T031914
CREATED:20240201T220419Z
LAST-MODIFIED:20240329T215953Z
UID:10000323-1709683200-1712534399@fc.native-gains.com
SUMMARY:iPhonography 2024
DESCRIPTION:Photography by Bart Blumberg. The opening reception will be on Friday\, August 29th\, 5:30-7:00 PM. Location: Ventress Library in Marshfield\, MA  Sponsored by NRAS 
URL:https://fc.native-gains.com/event/iphonography-2024/
LOCATION:Plymouth Center for the Arts\, 11 North Street\, Plymouth\, MA\, 02360\, United States
CATEGORIES:Local Shows
ATTACH;FMTTYPE=image/jpeg:https://fc.native-gains.com/wp-content/uploads/2024/02/iPhono-3x4-JPG_1704204371.jpg
END:VEVENT
BEGIN:VEVENT
DTSTART;VALUE=DATE:20240305
DTEND;VALUE=DATE:20240428
DTSTAMP:20260423T031914
CREATED:20240315T202722Z
LAST-MODIFIED:20240414T215155Z
UID:10000344-1709596800-1714262399@fc.native-gains.com
SUMMARY:Dassie Ableson at the Pratt Library
DESCRIPTION:Photography by Bart Blumberg. The opening reception will be on Friday\, August 29th\, 5:30-7:00 PM. Location: Ventress Library in Marshfield\, MA  Sponsored by NRAS 
URL:https://fc.native-gains.com/event/dassie-ableson-at-the-pratt-library/
LOCATION:Pratt Library\, 35 Ripley Rd\, Cohasset\, 02025\, United States
CATEGORIES:Local Shows
ATTACH;FMTTYPE=image/jpeg:https://fc.native-gains.com/wp-content/uploads/2024/03/IMG_5938-scaled-e1713131459945.jpg
END:VEVENT
BEGIN:VEVENT
DTSTART;TZID=America/New_York:20240305T000000
DTEND;TZID=America/New_York:20240427T235959
DTSTAMP:20260423T031914
CREATED:20240315T202722Z
LAST-MODIFIED:20240315T202722Z
UID:10000692-1709596800-1714262399@fc.native-gains.com
SUMMARY:Dassie Ableson at the Pratt Library
DESCRIPTION:Photography by Bart Blumberg. The opening reception will be on Friday\, August 29th\, 5:30-7:00 PM. Location: Ventress Library in Marshfield\, MA  Sponsored by NRAS 
URL:https://fc.native-gains.com/event/dassie-ableson-at-the-pratt-library-2/
LOCATION:Pratt Library\, 35 Ripley Rd\, Cohasset\, 02025\, United States
CATEGORIES:Local Shows
ATTACH;FMTTYPE=image/jpeg:https://fc.native-gains.com/wp-content/uploads/2024/03/IMG_5938-scaled-e1713131459945.jpg
END:VEVENT
BEGIN:VEVENT
DTSTART;TZID=America/New_York:20240304T000000
DTEND;TZID=America/New_York:20240401T235959
DTSTAMP:20260423T031914
CREATED:20240306T215026Z
LAST-MODIFIED:20240329T215933Z
UID:10000336-1709510400-1712015999@fc.native-gains.com
SUMMARY:South Shore Gallery Artist Spotlight March
DESCRIPTION:Photography by Bart Blumberg. The opening reception will be on Friday\, August 29th\, 5:30-7:00 PM. Location: Ventress Library in Marshfield\, MA  Sponsored by NRAS 
URL:https://fc.native-gains.com/event/south-shore-gallery-artist-spotlight-march/
LOCATION:SSAC\, 119 Ripley Rd\, Cohasset\, MA\, United States
CATEGORIES:Local Shows
ATTACH;FMTTYPE=image/jpeg:https://fc.native-gains.com/wp-content/uploads/2024/03/mnpg_211x622_GA_Spotlight-March-2024.jpeg
END:VEVENT
BEGIN:VEVENT
DTSTART;TZID=America/New_York:20240304T000000
DTEND;TZID=America/New_York:20240401T235959
DTSTAMP:20260423T031914
CREATED:20240306T215026Z
LAST-MODIFIED:20240306T215026Z
UID:10000684-1709510400-1712015999@fc.native-gains.com
SUMMARY:South Shore Gallery Artist Spotlight March
DESCRIPTION:Photography by Bart Blumberg. The opening reception will be on Friday\, August 29th\, 5:30-7:00 PM. Location: Ventress Library in Marshfield\, MA  Sponsored by NRAS 
URL:https://fc.native-gains.com/event/south-shore-gallery-artist-spotlight-march-2/
LOCATION:SSAC\, 119 Ripley Rd\, Cohasset\, MA\, United States
CATEGORIES:Local Shows
ATTACH;FMTTYPE=image/jpeg:https://fc.native-gains.com/wp-content/uploads/2024/03/mnpg_211x622_GA_Spotlight-March-2024.jpeg
END:VEVENT
BEGIN:VEVENT
DTSTART;TZID=America/New_York:20240229T190000
DTEND;TZID=America/New_York:20240229T220000
DTSTAMP:20260423T031914
CREATED:20240206T212717Z
LAST-MODIFIED:20240206T212914Z
UID:10000324-1709233200-1709244000@fc.native-gains.com
SUMMARY:Shake It Up!
DESCRIPTION:Photography by Bart Blumberg. The opening reception will be on Friday\, August 29th\, 5:30-7:00 PM. Location: Ventress Library in Marshfield\, MA  Sponsored by NRAS 
URL:https://fc.native-gains.com/event/shake-it-up/
LOCATION:SSAC\, 119 Ripley Rd\, Cohasset\, MA\, United States
ATTACH;FMTTYPE=image/jpeg:https://fc.native-gains.com/wp-content/uploads/2024/02/Shake-it-Up-Header-W662.jpeg
END:VEVENT
BEGIN:VEVENT
DTSTART;TZID=America/New_York:20240229T190000
DTEND;TZID=America/New_York:20240229T220000
DTSTAMP:20260423T031914
CREATED:20240206T212717Z
LAST-MODIFIED:20240206T212717Z
UID:10000672-1709233200-1709244000@fc.native-gains.com
SUMMARY:Shake It Up!
DESCRIPTION:Photography by Bart Blumberg. The opening reception will be on Friday\, August 29th\, 5:30-7:00 PM. Location: Ventress Library in Marshfield\, MA  Sponsored by NRAS 
URL:https://fc.native-gains.com/event/shake-it-up-2/
LOCATION:SSAC\, 119 Ripley Rd\, Cohasset\, MA\, United States
ATTACH;FMTTYPE=image/jpeg:https://fc.native-gains.com/wp-content/uploads/2024/02/Shake-it-Up-Header-W662.jpeg
END:VEVENT
BEGIN:VEVENT
DTSTART;TZID=America/New_York:20240228T000000
DTEND;TZID=America/New_York:20240327T235959
DTSTAMP:20260423T031914
CREATED:20240307T162557Z
LAST-MODIFIED:20240307T162557Z
UID:10000342-1709078400-1711583999@fc.native-gains.com
SUMMARY:Call for Art - Fine Art Photography
DESCRIPTION:Photography by Bart Blumberg. The opening reception will be on Friday\, August 29th\, 5:30-7:00 PM. Location: Ventress Library in Marshfield\, MA  Sponsored by NRAS 
URL:https://fc.native-gains.com/event/call-for-art-fine-art-photography/
LOCATION:Plymouth Center for the Arts\, 11 North Street\, Plymouth\, MA\, 02360\, United States
ATTACH;FMTTYPE=image/jpeg:https://fc.native-gains.com/wp-content/uploads/2024/03/FAP-3X4-Revised_1708525807-scaled.jpg
END:VEVENT
BEGIN:VEVENT
DTSTART;TZID=America/New_York:20240228T000000
DTEND;TZID=America/New_York:20240327T235959
DTSTAMP:20260423T031914
CREATED:20240307T162557Z
LAST-MODIFIED:20240307T162557Z
UID:10000690-1709078400-1711583999@fc.native-gains.com
SUMMARY:Call for Art - Fine Art Photography
DESCRIPTION:Photography by Bart Blumberg. The opening reception will be on Friday\, August 29th\, 5:30-7:00 PM. Location: Ventress Library in Marshfield\, MA  Sponsored by NRAS 
URL:https://fc.native-gains.com/event/call-for-art-fine-art-photography-2/
LOCATION:Plymouth Center for the Arts\, 11 North Street\, Plymouth\, MA\, 02360\, United States
ATTACH;FMTTYPE=image/jpeg:https://fc.native-gains.com/wp-content/uploads/2024/03/FAP-3X4-Revised_1708525807-scaled.jpg
END:VEVENT
BEGIN:VEVENT
DTSTART;TZID=America/New_York:20240224T000000
DTEND;TZID=America/New_York:20240413T235959
DTSTAMP:20260423T031914
CREATED:20240215T173257Z
LAST-MODIFIED:20240215T173257Z
UID:10000681-1708732800-1713052799@fc.native-gains.com
SUMMARY:"Bands of Blue"
DESCRIPTION:Photography by Bart Blumberg. The opening reception will be on Friday\, August 29th\, 5:30-7:00 PM. Location: Ventress Library in Marshfield\, MA  Sponsored by NRAS 
URL:https://fc.native-gains.com/event/bands-of-blue-2/
LOCATION:Ventress Memorial Library\, 1837 Ocean Street/route 139\, Marshfield\, 02050\, United States
ATTACH;FMTTYPE=image/png:https://fc.native-gains.com/wp-content/uploads/2024/02/Screen-Shot-2024-02-14-at-4.42.34-PM.png
END:VEVENT
BEGIN:VEVENT
DTSTART;TZID=America/New_York:20240224T000000
DTEND;TZID=America/New_York:20240413T235959
DTSTAMP:20260423T031914
CREATED:20240215T173257Z
LAST-MODIFIED:20240215T173257Z
UID:10000333-1708732800-1713052799@fc.native-gains.com
SUMMARY:"Bands of Blue"
DESCRIPTION:Photography by Bart Blumberg. The opening reception will be on Friday\, August 29th\, 5:30-7:00 PM. Location: Ventress Library in Marshfield\, MA  Sponsored by NRAS 
URL:https://fc.native-gains.com/event/bands-of-blue/
LOCATION:Ventress Memorial Library\, 1837 Ocean Street/route 139\, Marshfield\, 02050\, United States
ATTACH;FMTTYPE=image/png:https://fc.native-gains.com/wp-content/uploads/2024/02/Screen-Shot-2024-02-14-at-4.42.34-PM.png
END:VEVENT
BEGIN:VEVENT
DTSTART;TZID=America/New_York:20240221T000000
DTEND;TZID=America/New_York:20240324T235959
DTSTAMP:20260423T031914
CREATED:20240112T164858Z
LAST-MODIFIED:20240112T164858Z
UID:10000666-1708473600-1711324799@fc.native-gains.com
SUMMARY:"Abstractions"
DESCRIPTION:Photography by Bart Blumberg. The opening reception will be on Friday\, August 29th\, 5:30-7:00 PM. Location: Ventress Library in Marshfield\, MA  Sponsored by NRAS 
URL:https://fc.native-gains.com/event/abstractions-2/
LOCATION:Plymouth Center for the Arts\, 11 North Street\, Plymouth\, MA\, 02360\, United States
ATTACH;FMTTYPE=image/jpeg:https://fc.native-gains.com/wp-content/uploads/2024/01/Abstractions.jpg
END:VEVENT
BEGIN:VEVENT
DTSTART;VALUE=DATE:20240221
DTEND;VALUE=DATE:20240325
DTSTAMP:20260423T031914
CREATED:20240112T164858Z
LAST-MODIFIED:20240112T164920Z
UID:10000318-1708473600-1711324799@fc.native-gains.com
SUMMARY:"Abstractions"
DESCRIPTION:Photography by Bart Blumberg. The opening reception will be on Friday\, August 29th\, 5:30-7:00 PM. Location: Ventress Library in Marshfield\, MA  Sponsored by NRAS 
URL:https://fc.native-gains.com/event/abstractions/
LOCATION:Plymouth Center for the Arts\, 11 North Street\, Plymouth\, MA\, 02360\, United States
ATTACH;FMTTYPE=image/jpeg:https://fc.native-gains.com/wp-content/uploads/2024/01/Abstractions.jpg
END:VEVENT
BEGIN:VEVENT
DTSTART;TZID=America/New_York:20240221T000000
DTEND;TZID=America/New_York:20240320T235959
DTSTAMP:20260423T031914
CREATED:20240307T161612Z
LAST-MODIFIED:20240307T161612Z
UID:10000689-1708473600-1710979199@fc.native-gains.com
SUMMARY:Call for Artists for "Visions"
DESCRIPTION:Photography by Bart Blumberg. The opening reception will be on Friday\, August 29th\, 5:30-7:00 PM. Location: Ventress Library in Marshfield\, MA  Sponsored by NRAS 
URL:https://fc.native-gains.com/event/call-for-artists-for-visions-2/
LOCATION:Plymouth Center for the Arts\, 11 North Street\, Plymouth\, MA\, 02360\, United States
ATTACH;FMTTYPE=image/jpeg:https://fc.native-gains.com/wp-content/uploads/2024/03/VISIONS-3x4-WEB_1705949745.jpg
END:VEVENT
BEGIN:VEVENT
DTSTART;TZID=America/New_York:20240221T000000
DTEND;TZID=America/New_York:20240320T235959
DTSTAMP:20260423T031914
CREATED:20240307T161612Z
LAST-MODIFIED:20240307T161612Z
UID:10000341-1708473600-1710979199@fc.native-gains.com
SUMMARY:Call for Artists for "Visions"
DESCRIPTION:Photography by Bart Blumberg. The opening reception will be on Friday\, August 29th\, 5:30-7:00 PM. Location: Ventress Library in Marshfield\, MA  Sponsored by NRAS 
URL:https://fc.native-gains.com/event/call-for-artists-for-visions/
LOCATION:Plymouth Center for the Arts\, 11 North Street\, Plymouth\, MA\, 02360\, United States
ATTACH;FMTTYPE=image/jpeg:https://fc.native-gains.com/wp-content/uploads/2024/03/VISIONS-3x4-WEB_1705949745.jpg
END:VEVENT
BEGIN:VEVENT
DTSTART;VALUE=DATE:20240218
DTEND;VALUE=DATE:20240506
DTSTAMP:20260423T031914
CREATED:20231228T222833Z
LAST-MODIFIED:20231228T222833Z
UID:10000307-1708214400-1714953599@fc.native-gains.com
SUMMARY:Zach Horn: Saturdays
DESCRIPTION:Photography by Bart Blumberg. The opening reception will be on Friday\, August 29th\, 5:30-7:00 PM. Location: Ventress Library in Marshfield\, MA  Sponsored by NRAS 
URL:https://fc.native-gains.com/event/zach-horn-saturdays/
LOCATION:The Art Complex Museum\, 189 Alden Street\, Duxbury\, 02332\, United States
ATTACH;FMTTYPE=image/jpeg:https://fc.native-gains.com/wp-content/uploads/2023/12/Zach-Horn_Saturdays_Frame_Butter_SM.jpeg
END:VEVENT
BEGIN:VEVENT
DTSTART;TZID=America/New_York:20240218T000000
DTEND;TZID=America/New_York:20240505T235959
DTSTAMP:20260423T031914
CREATED:20231228T222833Z
LAST-MODIFIED:20231228T222833Z
UID:10000655-1708214400-1714953599@fc.native-gains.com
SUMMARY:Zach Horn: Saturdays
DESCRIPTION:Photography by Bart Blumberg. The opening reception will be on Friday\, August 29th\, 5:30-7:00 PM. Location: Ventress Library in Marshfield\, MA  Sponsored by NRAS 
URL:https://fc.native-gains.com/event/zach-horn-saturdays-2/
LOCATION:The Art Complex Museum\, 189 Alden Street\, Duxbury\, 02332\, United States
ATTACH;FMTTYPE=image/jpeg:https://fc.native-gains.com/wp-content/uploads/2023/12/Zach-Horn_Saturdays_Frame_Butter_SM.jpeg
END:VEVENT
BEGIN:VEVENT
DTSTART;TZID=America/New_York:20240215T183000
DTEND;TZID=America/New_York:20240215T213000
DTSTAMP:20260423T031914
CREATED:20240207T154531Z
LAST-MODIFIED:20240207T154531Z
UID:10000325-1708021800-1708032600@fc.native-gains.com
SUMMARY:"Art Escape" Workshop
DESCRIPTION:Photography by Bart Blumberg. The opening reception will be on Friday\, August 29th\, 5:30-7:00 PM. Location: Ventress Library in Marshfield\, MA  Sponsored by NRAS 
URL:https://fc.native-gains.com/event/art-escape-workshop/
LOCATION:Frame Center Hanover\, 152 Rockland Street\, Hanover\, MA\, 02339\, United States
ATTACH;FMTTYPE=image/png:https://fc.native-gains.com/wp-content/uploads/2024/02/Screen-Shot-2024-02-07-at-10.20.26-AM.png
END:VEVENT
BEGIN:VEVENT
DTSTART;TZID=America/New_York:20240215T183000
DTEND;TZID=America/New_York:20240215T213000
DTSTAMP:20260423T031914
CREATED:20240207T154531Z
LAST-MODIFIED:20240207T154531Z
UID:10000673-1708021800-1708032600@fc.native-gains.com
SUMMARY:"Art Escape" Workshop
DESCRIPTION:Photography by Bart Blumberg. The opening reception will be on Friday\, August 29th\, 5:30-7:00 PM. Location: Ventress Library in Marshfield\, MA  Sponsored by NRAS 
URL:https://fc.native-gains.com/event/art-escape-workshop-2/
LOCATION:Frame Center Hanover\, 152 Rockland Street\, Hanover\, MA\, 02339\, United States
ATTACH;FMTTYPE=image/png:https://fc.native-gains.com/wp-content/uploads/2024/02/Screen-Shot-2024-02-07-at-10.20.26-AM.png
END:VEVENT
BEGIN:VEVENT
DTSTART;TZID=America/New_York:20240215T000000
DTEND;TZID=America/New_York:20240330T235959
DTSTAMP:20260423T031914
CREATED:20240215T183340Z
LAST-MODIFIED:20240215T183340Z
UID:10000334-1707955200-1711843199@fc.native-gains.com
SUMMARY:"Object Lesson"
DESCRIPTION:Photography by Bart Blumberg. The opening reception will be on Friday\, August 29th\, 5:30-7:00 PM. Location: Ventress Library in Marshfield\, MA  Sponsored by NRAS 
URL:https://fc.native-gains.com/event/object-lesson/
LOCATION:SSAC\, 119 Ripley Rd\, Cohasset\, MA\, United States
ATTACH;FMTTYPE=image/jpeg:https://fc.native-gains.com/wp-content/uploads/2024/02/IMG_5823.jpg
END:VEVENT
BEGIN:VEVENT
DTSTART;TZID=America/New_York:20240215T000000
DTEND;TZID=America/New_York:20240330T235959
DTSTAMP:20260423T031914
CREATED:20240215T183340Z
LAST-MODIFIED:20240215T183340Z
UID:10000682-1707955200-1711843199@fc.native-gains.com
SUMMARY:"Object Lesson"
DESCRIPTION:Photography by Bart Blumberg. The opening reception will be on Friday\, August 29th\, 5:30-7:00 PM. Location: Ventress Library in Marshfield\, MA  Sponsored by NRAS 
URL:https://fc.native-gains.com/event/object-lesson-2/
LOCATION:SSAC\, 119 Ripley Rd\, Cohasset\, MA\, United States
ATTACH;FMTTYPE=image/jpeg:https://fc.native-gains.com/wp-content/uploads/2024/02/IMG_5823.jpg
END:VEVENT
BEGIN:VEVENT
DTSTART;TZID=America/New_York:20240214T100000
DTEND;TZID=America/New_York:20240306T160000
DTSTAMP:20260423T031914
CREATED:20240209T225555Z
LAST-MODIFIED:20240209T225555Z
UID:10000331-1707904800-1709740800@fc.native-gains.com
SUMMARY:Michael Coyne "Elemental"
DESCRIPTION:Photography by Bart Blumberg. The opening reception will be on Friday\, August 29th\, 5:30-7:00 PM. Location: Ventress Library in Marshfield\, MA  Sponsored by NRAS 
URL:https://fc.native-gains.com/event/michael-coyne-elemental/
LOCATION:William Raveis Reality\, 515 Washington Street\, Norwell\, MA\, 02061\, United States
ATTACH;FMTTYPE=image/jpeg:https://fc.native-gains.com/wp-content/uploads/2024/02/MicrosoftTeams-image.jpg
END:VEVENT
BEGIN:VEVENT
DTSTART;TZID=America/New_York:20240214T100000
DTEND;TZID=America/New_York:20240306T160000
DTSTAMP:20260423T031914
CREATED:20240209T225555Z
LAST-MODIFIED:20240209T225555Z
UID:10000679-1707904800-1709740800@fc.native-gains.com
SUMMARY:Michael Coyne "Elemental"
DESCRIPTION:Photography by Bart Blumberg. The opening reception will be on Friday\, August 29th\, 5:30-7:00 PM. Location: Ventress Library in Marshfield\, MA  Sponsored by NRAS 
URL:https://fc.native-gains.com/event/michael-coyne-elemental-2/
LOCATION:William Raveis Reality\, 515 Washington Street\, Norwell\, MA\, 02061\, United States
ATTACH;FMTTYPE=image/jpeg:https://fc.native-gains.com/wp-content/uploads/2024/02/MicrosoftTeams-image.jpg
END:VEVENT
BEGIN:VEVENT
DTSTART;TZID=America/New_York:20240207T000000
DTEND;TZID=America/New_York:20240313T235959
DTSTAMP:20260423T031914
CREATED:20240208T185704Z
LAST-MODIFIED:20240208T185704Z
UID:10000327-1707264000-1710374399@fc.native-gains.com
SUMMARY:Scituate Arts Association 2024 Juried Art Show - Call For Artists!
DESCRIPTION:Photography by Bart Blumberg. The opening reception will be on Friday\, August 29th\, 5:30-7:00 PM. Location: Ventress Library in Marshfield\, MA  Sponsored by NRAS 
URL:https://fc.native-gains.com/event/scituate-arts-association-2024-juried-art-show-call-for-artists/
LOCATION:Front Street Gallery\, 124 Front Street\, Scituate\, MA\, United States
ATTACH;FMTTYPE=image/jpeg:https://fc.native-gains.com/wp-content/uploads/2024/02/Scituate.jpeg
ORGANIZER;CN="Scituate Arts Association":MAILTO:ScituateArtsAssociation@gmail.com
END:VEVENT
BEGIN:VEVENT
DTSTART;TZID=America/New_York:20240207T000000
DTEND;TZID=America/New_York:20240313T235959
DTSTAMP:20260423T031914
CREATED:20240208T185704Z
LAST-MODIFIED:20240208T185704Z
UID:10000675-1707264000-1710374399@fc.native-gains.com
SUMMARY:Scituate Arts Association 2024 Juried Art Show - Call For Artists!
DESCRIPTION:Photography by Bart Blumberg. The opening reception will be on Friday\, August 29th\, 5:30-7:00 PM. Location: Ventress Library in Marshfield\, MA  Sponsored by NRAS 
URL:https://fc.native-gains.com/event/scituate-arts-association-2024-juried-art-show-call-for-artists-2/
LOCATION:Front Street Gallery\, 124 Front Street\, Scituate\, MA\, United States
ATTACH;FMTTYPE=image/jpeg:https://fc.native-gains.com/wp-content/uploads/2024/02/Scituate.jpeg
ORGANIZER;CN="Scituate Arts Association":MAILTO:ScituateArtsAssociation@gmail.com
END:VEVENT
BEGIN:VEVENT
DTSTART;TZID=America/New_York:20240204T000000
DTEND;TZID=America/New_York:20240414T235959
DTSTAMP:20260423T031914
CREATED:20231228T222334Z
LAST-MODIFIED:20231228T222334Z
UID:10000654-1707004800-1713139199@fc.native-gains.com
SUMMARY:Serigraphs by Edward Landon
DESCRIPTION:Photography by Bart Blumberg. The opening reception will be on Friday\, August 29th\, 5:30-7:00 PM. Location: Ventress Library in Marshfield\, MA  Sponsored by NRAS 
URL:https://fc.native-gains.com/event/serigraphs-by-edward-landon-2/
LOCATION:The Art Complex Museum\, 189 Alden Street\, Duxbury\, 02332\, United States
ATTACH;FMTTYPE=image/jpeg:https://fc.native-gains.com/wp-content/uploads/2023/12/Landon_ACM_97.10_SM-600x263-1.jpeg
END:VEVENT
BEGIN:VEVENT
DTSTART;VALUE=DATE:20240204
DTEND;VALUE=DATE:20240415
DTSTAMP:20260423T031914
CREATED:20231228T222334Z
LAST-MODIFIED:20231228T222334Z
UID:10000306-1707004800-1713139199@fc.native-gains.com
SUMMARY:Serigraphs by Edward Landon
DESCRIPTION:Photography by Bart Blumberg. The opening reception will be on Friday\, August 29th\, 5:30-7:00 PM. Location: Ventress Library in Marshfield\, MA  Sponsored by NRAS 
URL:https://fc.native-gains.com/event/serigraphs-by-edward-landon/
LOCATION:The Art Complex Museum\, 189 Alden Street\, Duxbury\, 02332\, United States
ATTACH;FMTTYPE=image/jpeg:https://fc.native-gains.com/wp-content/uploads/2023/12/Landon_ACM_97.10_SM-600x263-1.jpeg
END:VEVENT
BEGIN:VEVENT
DTSTART;VALUE=DATE:20240204
DTEND;VALUE=DATE:20240415
DTSTAMP:20260423T031914
CREATED:20231228T161350Z
LAST-MODIFIED:20231228T161350Z
UID:10000305-1707004800-1713139199@fc.native-gains.com
SUMMARY:Duxbury Art Association Winter Juried Show
DESCRIPTION:Photography by Bart Blumberg. The opening reception will be on Friday\, August 29th\, 5:30-7:00 PM. Location: Ventress Library in Marshfield\, MA  Sponsored by NRAS 
URL:https://fc.native-gains.com/event/duxbury-art-association-winter-juried-show/
LOCATION:The Art Complex Museum\, 189 Alden Street\, Duxbury\, 02332\, United States
ATTACH;FMTTYPE=image/jpeg:https://fc.native-gains.com/wp-content/uploads/2023/12/Vincent_Crotty-487837.1863158-600x398-1.jpeg
END:VEVENT
END:VCALENDAR