BEGIN:VCALENDAR
VERSION:2.0
PRODID:-//Frame Center - ECPv6.2.9//NONSGML v1.0//EN
CALSCALE:GREGORIAN
METHOD:PUBLISH
X-WR-CALNAME:Frame Center
X-ORIGINAL-URL:https://fc.native-gains.com
X-WR-CALDESC:Events for Frame Center
REFRESH-INTERVAL;VALUE=DURATION:PT1H
X-Robots-Tag:noindex
X-PUBLISHED-TTL:PT1H
BEGIN:VTIMEZONE
TZID:America/New_York
BEGIN:DAYLIGHT
TZOFFSETFROM:-0500
TZOFFSETTO:-0400
TZNAME:EDT
DTSTART:20220313T070000
END:DAYLIGHT
BEGIN:STANDARD
TZOFFSETFROM:-0400
TZOFFSETTO:-0500
TZNAME:EST
DTSTART:20221106T060000
END:STANDARD
BEGIN:DAYLIGHT
TZOFFSETFROM:-0500
TZOFFSETTO:-0400
TZNAME:EDT
DTSTART:20230312T070000
END:DAYLIGHT
BEGIN:STANDARD
TZOFFSETFROM:-0400
TZOFFSETTO:-0500
TZNAME:EST
DTSTART:20231105T060000
END:STANDARD
END:VTIMEZONE
BEGIN:VEVENT
DTSTART;TZID=America/New_York:20230911T000000
DTEND;TZID=America/New_York:20230911T235959
DTSTAMP:20260420T134606
CREATED:20230908T182612Z
LAST-MODIFIED:20230908T182612Z
UID:10000599-1694390400-1694476799@fc.native-gains.com
SUMMARY:NRAS Members Show Final Day for Submissions
DESCRIPTION:Deadline for Entries: Monday\, Sept. 11 at Midnight\nSee Below for Details \n  \nOnline Entry: The entry form\, digital image and payment of entry fee must be submitted to Show Submit. NRAS suggests that you go to showsubmit.com in advance to set up an account\, if you don’t already have one\, and familiarize yourself with the entry process. It is really quite easy. You may enter ONE piece of work\, the entry fee is $20. Acceptable media include: oil\, acrylics\, watercolor\, drawing\, pastel\, graphics\, mixed media\, photography\, computer generated art\, and sculpture (pedestal requited). \nEligibility: Open to all current North River Arts members. Entries will be checked with current members list and nonmember entries will be denied unless membership is current. A list of current members can be seen at the link here: northriverarts.org/Directory. If you have any questions on your membership status\, please email the office at NorthRiverArts@gmail.com. Memberships can be renewed online at northriverarts.org. \nAll forms of artwork are allowed. Artwork may be sold through this exhibit\, with a 30% commission to NRAS. Work must not have been previously exhibited in a North River Arts exhibition. \nAll works must be original. Compositions based on published material or other artist’s work are NOT considered original and are not eligible. Work executed in a workshop or under another artist’s supervision or based on another person’s photograph (even if a royalty/copyright free image or permission \nhas been granted by the artist owning the copyright of the image) are NOT eligible. Work must not have been exhibited in any previous NRAS exhibit. NRAS reserves the right to reject work deemed unsuitable or that does not meet entry criteria. Prints (reproduced from original artwork) are not acceptable \nIMPORTANT! Due to our large membership\, and the size constraints of the gallery\, we must strictly enforce a size limit for artwork to be hung on the walls. The total of height (one side) + width (one side) must not exceed 48” – including the frame. \n 
URL:https://fc.native-gains.com/event/nras-members-show-final-day-for-submissions-2/
LOCATION:G.A.R. Hall\, 157 Old Main Street\, Marshfield\, MA\, United States
ATTACH;FMTTYPE=image/jpeg:https://fc.native-gains.com/wp-content/uploads/2023/09/riv.jpeg
END:VEVENT
BEGIN:VEVENT
DTSTART;VALUE=DATE:20230911
DTEND;VALUE=DATE:20230912
DTSTAMP:20260420T134606
CREATED:20230908T182612Z
LAST-MODIFIED:20230908T182612Z
UID:10000261-1694390400-1694476799@fc.native-gains.com
SUMMARY:NRAS Members Show Final Day for Submissions
DESCRIPTION:Deadline for Entries: Monday\, Sept. 11 at Midnight\nSee Below for Details \n  \nOnline Entry: The entry form\, digital image and payment of entry fee must be submitted to Show Submit. NRAS suggests that you go to showsubmit.com in advance to set up an account\, if you don’t already have one\, and familiarize yourself with the entry process. It is really quite easy. You may enter ONE piece of work\, the entry fee is $20. Acceptable media include: oil\, acrylics\, watercolor\, drawing\, pastel\, graphics\, mixed media\, photography\, computer generated art\, and sculpture (pedestal requited). \nEligibility: Open to all current North River Arts members. Entries will be checked with current members list and nonmember entries will be denied unless membership is current. A list of current members can be seen at the link here: northriverarts.org/Directory. If you have any questions on your membership status\, please email the office at NorthRiverArts@gmail.com. Memberships can be renewed online at northriverarts.org. \nAll forms of artwork are allowed. Artwork may be sold through this exhibit\, with a 30% commission to NRAS. Work must not have been previously exhibited in a North River Arts exhibition. \nAll works must be original. Compositions based on published material or other artist’s work are NOT considered original and are not eligible. Work executed in a workshop or under another artist’s supervision or based on another person’s photograph (even if a royalty/copyright free image or permission \nhas been granted by the artist owning the copyright of the image) are NOT eligible. Work must not have been exhibited in any previous NRAS exhibit. NRAS reserves the right to reject work deemed unsuitable or that does not meet entry criteria. Prints (reproduced from original artwork) are not acceptable \nIMPORTANT! Due to our large membership\, and the size constraints of the gallery\, we must strictly enforce a size limit for artwork to be hung on the walls. The total of height (one side) + width (one side) must not exceed 48” – including the frame. \n 
URL:https://fc.native-gains.com/event/nras-members-show-final-day-for-submissions/
LOCATION:G.A.R. Hall\, 157 Old Main Street\, Marshfield\, MA\, United States
ATTACH;FMTTYPE=image/jpeg:https://fc.native-gains.com/wp-content/uploads/2023/09/riv.jpeg
END:VEVENT
BEGIN:VEVENT
DTSTART;TZID=America/New_York:20230909T090000
DTEND;TZID=America/New_York:20230909T160000
DTSTAMP:20260420T134606
CREATED:20230817T210712Z
LAST-MODIFIED:20230817T210712Z
UID:10000582-1694250000-1694275200@fc.native-gains.com
SUMMARY:Best Practices
DESCRIPTION:Best Practices: Entering Exhibitions and Framing for Success with Liz Haywood-Sullivan and Dave Petty\n  \nEntering Exhibitions – 9:00am-12:00pm\, by Liz Haywood-Sullivan\, President NRAS \nFraming for Success – 1:00-4:00pm\, by David Petty\, Owner of The Frame Center \nThis one-day workshop is broken into two parts. In the morning\, Liz will guide you through the ins and outs of entering a competition. Including choosing work to submit\, what will catch the judges’ eye\, following the prospectus and prepping your images. After a one hour lunch break\, David Petty of the Frame Center will discuss how to best frame your artwork. Details on choosing a frame\, framing for exhibitions\, and frame types and styles . \nJoin us for either one of these sessions or for the full day. \nREGISTRATION\n\nMember Full Day – $75.00\n\n\nMember Half Day – $40.00\n\n\nNonmember Full Day – $115.00\n\n\nNonmember Half Day – $60.00\n\n 
URL:https://fc.native-gains.com/event/best-practices-2/
LOCATION:North River Arts Society\, 157 Old Main Street\, Marshfield\, MA\, 02051\, United States
ATTACH;FMTTYPE=image/jpeg:https://fc.native-gains.com/wp-content/uploads/2023/08/IMG_9490.jpeg
END:VEVENT
BEGIN:VEVENT
DTSTART;TZID=America/New_York:20230909T090000
DTEND;TZID=America/New_York:20230909T160000
DTSTAMP:20260420T134606
CREATED:20230817T210712Z
LAST-MODIFIED:20230817T210712Z
UID:10000174-1694250000-1694275200@fc.native-gains.com
SUMMARY:Best Practices
DESCRIPTION:Best Practices: Entering Exhibitions and Framing for Success with Liz Haywood-Sullivan and Dave Petty\n  \nEntering Exhibitions – 9:00am-12:00pm\, by Liz Haywood-Sullivan\, President NRAS \nFraming for Success – 1:00-4:00pm\, by David Petty\, Owner of The Frame Center \nThis one-day workshop is broken into two parts. In the morning\, Liz will guide you through the ins and outs of entering a competition. Including choosing work to submit\, what will catch the judges’ eye\, following the prospectus and prepping your images. After a one hour lunch break\, David Petty of the Frame Center will discuss how to best frame your artwork. Details on choosing a frame\, framing for exhibitions\, and frame types and styles . \nJoin us for either one of these sessions or for the full day. \nREGISTRATION\n\nMember Full Day – $75.00\n\n\nMember Half Day – $40.00\n\n\nNonmember Full Day – $115.00\n\n\nNonmember Half Day – $60.00\n\n 
URL:https://fc.native-gains.com/event/best-practices/
LOCATION:North River Arts Society\, 157 Old Main Street\, Marshfield\, MA\, 02051\, United States
ATTACH;FMTTYPE=image/jpeg:https://fc.native-gains.com/wp-content/uploads/2023/08/IMG_9490.jpeg
END:VEVENT
BEGIN:VEVENT
DTSTART;TZID=America/New_York:20230902T160000
DTEND;TZID=America/New_York:20230902T180000
DTSTAMP:20260420T134606
CREATED:20230831T214814Z
LAST-MODIFIED:20230831T214814Z
UID:10000252-1693670400-1693677600@fc.native-gains.com
SUMMARY:OTB!!!
DESCRIPTION:North River Arts presents OTB!!!\nOutside The Box\n  \nClosing Party is from 4pm to 6pm\, where the winning bidders can pick up there pieces of artwork from the 2023 OTB Show. \n 
URL:https://fc.native-gains.com/event/otb-2/
LOCATION:G.A.R. Hall\, 157 Old Main Street\, Marshfield\, MA\, United States
ATTACH;FMTTYPE=image/jpeg:https://fc.native-gains.com/wp-content/uploads/2023/08/OTB-2012-logo.jpeg
END:VEVENT
BEGIN:VEVENT
DTSTART;TZID=America/New_York:20230902T160000
DTEND;TZID=America/New_York:20230902T180000
DTSTAMP:20260420T134606
CREATED:20230831T214814Z
LAST-MODIFIED:20230831T214814Z
UID:10000590-1693670400-1693677600@fc.native-gains.com
SUMMARY:OTB!!!
DESCRIPTION:North River Arts presents OTB!!!\nOutside The Box\n  \nClosing Party is from 4pm to 6pm\, where the winning bidders can pick up there pieces of artwork from the 2023 OTB Show. \n 
URL:https://fc.native-gains.com/event/otb-2-2/
LOCATION:G.A.R. Hall\, 157 Old Main Street\, Marshfield\, MA\, United States
ATTACH;FMTTYPE=image/jpeg:https://fc.native-gains.com/wp-content/uploads/2023/08/OTB-2012-logo.jpeg
END:VEVENT
BEGIN:VEVENT
DTSTART;TZID=America/New_York:20230826T000000
DTEND;TZID=America/New_York:20230826T120000
DTSTAMP:20260420T134606
CREATED:20230817T215732Z
LAST-MODIFIED:20230817T215732Z
UID:10000584-1693008000-1693051200@fc.native-gains.com
SUMMARY:OTB! Final Day of Bidding
DESCRIPTION:The bidding ends today at Noon!  It’s your last chance to bid on your favorite pieces before the names of the artists are revealed
URL:https://fc.native-gains.com/event/otb-final-day-of-bidding-2/
LOCATION:North River Arts Society\, 157 Old Main Street\, Marshfield\, MA\, 02051\, United States
ATTACH;FMTTYPE=image/jpeg:https://fc.native-gains.com/wp-content/uploads/2023/08/OTB-2012-logo.jpeg
END:VEVENT
BEGIN:VEVENT
DTSTART;TZID=America/New_York:20230826T000000
DTEND;TZID=America/New_York:20230826T120000
DTSTAMP:20260420T134606
CREATED:20230817T215732Z
LAST-MODIFIED:20230817T215732Z
UID:10000176-1693008000-1693051200@fc.native-gains.com
SUMMARY:OTB! Final Day of Bidding
DESCRIPTION:The bidding ends today at Noon!  It’s your last chance to bid on your favorite pieces before the names of the artists are revealed
URL:https://fc.native-gains.com/event/otb-final-day-of-bidding/
LOCATION:North River Arts Society\, 157 Old Main Street\, Marshfield\, MA\, 02051\, United States
ATTACH;FMTTYPE=image/jpeg:https://fc.native-gains.com/wp-content/uploads/2023/08/OTB-2012-logo.jpeg
END:VEVENT
BEGIN:VEVENT
DTSTART;TZID=America/New_York:20230810T173000
DTEND;TZID=America/New_York:20230810T193000
DTSTAMP:20260420T134606
CREATED:20230809T215146Z
LAST-MODIFIED:20230809T215340Z
UID:10000172-1691688600-1691695800@fc.native-gains.com
SUMMARY:Reception Night for "Look Up\, Look Down..."
DESCRIPTION:Please join the artist for a reception on \nThursday\, August 10 from 5:30-7:30.
URL:https://fc.native-gains.com/event/reception-night-for-look-up-look-down/
LOCATION:Hingham Library’s Dolphin Gallery\, 66 Leavitt Street\, Hingham\, MA\, United States
ATTACH;FMTTYPE=image/jpeg:https://fc.native-gains.com/wp-content/uploads/2023/08/ChristineBodnar_2023_poster.jpeg
END:VEVENT
BEGIN:VEVENT
DTSTART;TZID=America/New_York:20230810T173000
DTEND;TZID=America/New_York:20230810T193000
DTSTAMP:20260420T134606
CREATED:20230809T215146Z
LAST-MODIFIED:20230809T215146Z
UID:10000580-1691688600-1691695800@fc.native-gains.com
SUMMARY:Reception Night for "Look Up\, Look Down..."
DESCRIPTION:Please join the artist for a reception on \nThursday\, August 10 from 5:30-7:30.
URL:https://fc.native-gains.com/event/reception-night-for-look-up-look-down-2/
LOCATION:Hingham Library’s Dolphin Gallery\, 66 Leavitt Street\, Hingham\, MA\, United States
ATTACH;FMTTYPE=image/jpeg:https://fc.native-gains.com/wp-content/uploads/2023/08/ChristineBodnar_2023_poster.jpeg
END:VEVENT
BEGIN:VEVENT
DTSTART;TZID=America/New_York:20230805T180000
DTEND;TZID=America/New_York:20230805T220000
DTSTAMP:20260420T134606
CREATED:20230803T215002Z
LAST-MODIFIED:20230803T215002Z
UID:10000572-1691258400-1691272800@fc.native-gains.com
SUMMARY:OTB!!!
DESCRIPTION:North River Arts presents OTB!!!\nOutside The Box\n  \nJoin us for the opening reception of Outside the Box with light snacks and a cash bar! Over 100 small works have been donated to NRAS to be part of this silent auction. Artists are anonymous to encourage bidders to bid on items they really love!  \nOpen 6-10pm\, see you then!
URL:https://fc.native-gains.com/event/otb-3/
LOCATION:G.A.R. Hall\, 157 Old Main Street\, Marshfield\, MA\, United States
ATTACH;FMTTYPE=image/jpeg:https://fc.native-gains.com/wp-content/uploads/2023/08/OTB-2012-logo.jpeg
END:VEVENT
BEGIN:VEVENT
DTSTART;TZID=America/New_York:20230805T180000
DTEND;TZID=America/New_York:20230805T220000
DTSTAMP:20260420T134606
CREATED:20230803T215002Z
LAST-MODIFIED:20230803T215002Z
UID:10000244-1691258400-1691272800@fc.native-gains.com
SUMMARY:OTB!!!
DESCRIPTION:North River Arts presents OTB!!!\nOutside The Box\n  \nJoin us for the opening reception of Outside the Box with light snacks and a cash bar! Over 100 small works have been donated to NRAS to be part of this silent auction. Artists are anonymous to encourage bidders to bid on items they really love!  \nOpen 6-10pm\, see you then!
URL:https://fc.native-gains.com/event/otb/
LOCATION:G.A.R. Hall\, 157 Old Main Street\, Marshfield\, MA\, United States
ATTACH;FMTTYPE=image/jpeg:https://fc.native-gains.com/wp-content/uploads/2023/08/OTB-2012-logo.jpeg
END:VEVENT
BEGIN:VEVENT
DTSTART;TZID=America/New_York:20230805T000000
DTEND;TZID=America/New_York:20230907T235959
DTSTAMP:20260420T134606
CREATED:20230804T182825Z
LAST-MODIFIED:20230804T182825Z
UID:10000575-1691193600-1694131199@fc.native-gains.com
SUMMARY:"Look Up\, Look Down..."
DESCRIPTION:Please join the artist for a reception on \nThursday\, August 10 from 5:30-7:30.
URL:https://fc.native-gains.com/event/look-up-look-down-2/
LOCATION:Hingham Library’s Dolphin Gallery\, 66 Leavitt Street\, Hingham\, MA\, United States
ATTACH;FMTTYPE=image/jpeg:https://fc.native-gains.com/wp-content/uploads/2023/08/ChristineBodnar_2023_poster.jpeg
END:VEVENT
BEGIN:VEVENT
DTSTART;VALUE=DATE:20230805
DTEND;VALUE=DATE:20230908
DTSTAMP:20260420T134606
CREATED:20230804T182825Z
LAST-MODIFIED:20230809T214521Z
UID:10000247-1691193600-1694131199@fc.native-gains.com
SUMMARY:"Look Up\, Look Down..."
DESCRIPTION:Please join the artist for a reception on \nThursday\, August 10 from 5:30-7:30.
URL:https://fc.native-gains.com/event/look-up-look-down/
LOCATION:Hingham Library’s Dolphin Gallery\, 66 Leavitt Street\, Hingham\, MA\, United States
ATTACH;FMTTYPE=image/jpeg:https://fc.native-gains.com/wp-content/uploads/2023/08/ChristineBodnar_2023_poster.jpeg
END:VEVENT
BEGIN:VEVENT
DTSTART;TZID=America/New_York:20230218T000000
DTEND;TZID=America/New_York:20230408T235959
DTSTAMP:20260420T134606
CREATED:20230207T183013Z
LAST-MODIFIED:20230207T183013Z
UID:10000556-1676678400-1680998399@fc.native-gains.com
SUMMARY:"On The Sunny Side"
DESCRIPTION:“On The Sunny Side”\nfeatures the work of award winning photographer Lindsay McGrath.  It runs from Feb. 18 – April 8\, 2023 and showcases images from some of the warmest places on the planet including Panama\, Belize\, the Caribbean\, Palm Springs\, Florida\, Cape Cod\, Martha’s Vineyard and more.  \n \nA reception will be held at the Horan Gallery\, Fri.\, March 3 from 5:30 – 7:30 p.m.  \n \nFree and open to the public\, “On The Sunny Side” is presented with support from North River Arts Society.
URL:https://fc.native-gains.com/event/on-the-sunny-side-2/
LOCATION:Ventress Memorial Library\, 1837 Ocean Street/route 139\, Marshfield\, 02050\, United States
ATTACH;FMTTYPE=image/jpeg:https://fc.native-gains.com/wp-content/uploads/2023/02/Lindsay-McGrath-Picture26.jpg
END:VEVENT
BEGIN:VEVENT
DTSTART;VALUE=DATE:20230218
DTEND;VALUE=DATE:20230409
DTSTAMP:20260420T134606
CREATED:20230207T183013Z
LAST-MODIFIED:20230207T183013Z
UID:10000158-1676678400-1680998399@fc.native-gains.com
SUMMARY:"On The Sunny Side"
DESCRIPTION:“On The Sunny Side”\nfeatures the work of award winning photographer Lindsay McGrath.  It runs from Feb. 18 – April 8\, 2023 and showcases images from some of the warmest places on the planet including Panama\, Belize\, the Caribbean\, Palm Springs\, Florida\, Cape Cod\, Martha’s Vineyard and more.  \n \nA reception will be held at the Horan Gallery\, Fri.\, March 3 from 5:30 – 7:30 p.m.  \n \nFree and open to the public\, “On The Sunny Side” is presented with support from North River Arts Society.
URL:https://fc.native-gains.com/event/on-the-sunny-side/
LOCATION:Ventress Memorial Library\, 1837 Ocean Street/route 139\, Marshfield\, 02050\, United States
ATTACH;FMTTYPE=image/jpeg:https://fc.native-gains.com/wp-content/uploads/2023/02/Lindsay-McGrath-Picture26.jpg
END:VEVENT
BEGIN:VEVENT
DTSTART;VALUE=DATE:20230204
DTEND;VALUE=DATE:20230303
DTSTAMP:20260420T134606
CREATED:20230201T212850Z
LAST-MODIFIED:20230201T212850Z
UID:10000234-1675468800-1677801599@fc.native-gains.com
SUMMARY:"Reimaginings"
DESCRIPTION:North River Arts presents \nSally Dean’s\n“Reimaginings”\n  \nFebruary 4th thru March 2nd \nat the Dolphin Gallery in the Hingham Library \nOpen Reception  \nThursday\, February 9th\, 5:30pm – 7:30pm
URL:https://fc.native-gains.com/event/reimaginings/
LOCATION:Hingham Library’s Dolphin Gallery\, 66 Leavitt Street\, Hingham\, MA\, United States
ATTACH;FMTTYPE=image/jpeg:https://fc.native-gains.com/wp-content/uploads/2023/02/NRAS-SallyDean-2023-small_Page_1.jpeg
END:VEVENT
BEGIN:VEVENT
DTSTART;TZID=America/New_York:20230204T000000
DTEND;TZID=America/New_York:20230302T235959
DTSTAMP:20260420T134606
CREATED:20230201T212850Z
LAST-MODIFIED:20230201T212850Z
UID:10000555-1675468800-1677801599@fc.native-gains.com
SUMMARY:"Reimaginings"
DESCRIPTION:North River Arts presents \nSally Dean’s\n“Reimaginings”\n  \nFebruary 4th thru March 2nd \nat the Dolphin Gallery in the Hingham Library \nOpen Reception  \nThursday\, February 9th\, 5:30pm – 7:30pm
URL:https://fc.native-gains.com/event/reimaginings-2/
LOCATION:Hingham Library’s Dolphin Gallery\, 66 Leavitt Street\, Hingham\, MA\, United States
ATTACH;FMTTYPE=image/jpeg:https://fc.native-gains.com/wp-content/uploads/2023/02/NRAS-SallyDean-2023-small_Page_1.jpeg
END:VEVENT
BEGIN:VEVENT
DTSTART;VALUE=DATE:20221203
DTEND;VALUE=DATE:20230106
DTSTAMP:20260420T134606
CREATED:20221111T153040Z
LAST-MODIFIED:20221111T153040Z
UID:10000222-1670025600-1672963199@fc.native-gains.com
SUMMARY:Drawn Out
DESCRIPTION:The North River Arts Society Presents \nJody Regan\nDrawn Out\nCome and see her works displayed at \nthe Dolphin Gallery at the Hingham Library \nOpening Reception is  \nThursday\, Dec. 8th \n5:30pm til 7:30pm
URL:https://fc.native-gains.com/event/drawn-out/
LOCATION:Hingham Library’s Dolphin Gallery\, 66 Leavitt Street\, Hingham\, MA\, United States
ATTACH;FMTTYPE=image/png:https://fc.native-gains.com/wp-content/uploads/2022/11/drawn-out.png
END:VEVENT
BEGIN:VEVENT
DTSTART;TZID=America/New_York:20221203T000000
DTEND;TZID=America/New_York:20230105T235959
DTSTAMP:20260420T134606
CREATED:20221111T153040Z
LAST-MODIFIED:20221111T153040Z
UID:10000549-1670025600-1672963199@fc.native-gains.com
SUMMARY:Drawn Out
DESCRIPTION:The North River Arts Society Presents \nJody Regan\nDrawn Out\nCome and see her works displayed at \nthe Dolphin Gallery at the Hingham Library \nOpening Reception is  \nThursday\, Dec. 8th \n5:30pm til 7:30pm
URL:https://fc.native-gains.com/event/drawn-out-2/
LOCATION:Hingham Library’s Dolphin Gallery\, 66 Leavitt Street\, Hingham\, MA\, United States
ATTACH;FMTTYPE=image/png:https://fc.native-gains.com/wp-content/uploads/2022/11/drawn-out.png
END:VEVENT
BEGIN:VEVENT
DTSTART;TZID=America/New_York:20220813T000000
DTEND;TZID=America/New_York:20220924T235959
DTSTAMP:20260420T134606
CREATED:20220818T160451Z
LAST-MODIFIED:20220818T160451Z
UID:10000543-1660348800-1664063999@fc.native-gains.com
SUMMARY:Colored Pencil Magic
DESCRIPTION:
URL:https://fc.native-gains.com/event/colored-pencil-magic-2/
LOCATION:Ventress Memorial Library\, 1837 Ocean Street/route 139\, Marshfield\, 02050\, United States
ATTACH;FMTTYPE=image/jpeg:https://fc.native-gains.com/wp-content/uploads/2022/08/SWeeks_July2022_Poster-01.jpeg
END:VEVENT
BEGIN:VEVENT
DTSTART;VALUE=DATE:20220813
DTEND;VALUE=DATE:20220925
DTSTAMP:20260420T134606
CREATED:20220818T160451Z
LAST-MODIFIED:20220818T160451Z
UID:10000215-1660348800-1664063999@fc.native-gains.com
SUMMARY:Colored Pencil Magic
DESCRIPTION:
URL:https://fc.native-gains.com/event/colored-pencil-magic/
LOCATION:Ventress Memorial Library\, 1837 Ocean Street/route 139\, Marshfield\, 02050\, United States
ATTACH;FMTTYPE=image/jpeg:https://fc.native-gains.com/wp-content/uploads/2022/08/SWeeks_July2022_Poster-01.jpeg
END:VEVENT
BEGIN:VEVENT
DTSTART;TZID=America/New_York:20220730T000000
DTEND;TZID=America/New_York:20220826T235959
DTSTAMP:20260420T134606
CREATED:20220721T181527Z
LAST-MODIFIED:20220721T181527Z
UID:10000540-1659139200-1661558399@fc.native-gains.com
SUMMARY:Drink & Dine
DESCRIPTION:North River Arts presents \nDRINK and DINE\nby Nancy Colella\nFeaturing Paintings of Restaurant and Bar Scenes (In recognition of all those in the hospitality industry who continue to be impacted by the effects of the pandemic) \n  \nOpening Reception \nThursday\, August 11th \n5;30pm – 7:30pm \n  \nDolphin Gallery  \nJuly 30th – August 26th
URL:https://fc.native-gains.com/event/drink-dine-2/
LOCATION:Hingham Library’s Dolphin Gallery\, 66 Leavitt Street\, Hingham\, MA\, United States
ATTACH;FMTTYPE=image/jpeg:https://fc.native-gains.com/wp-content/uploads/2022/07/Late-Party.jpeg
END:VEVENT
BEGIN:VEVENT
DTSTART;VALUE=DATE:20220730
DTEND;VALUE=DATE:20220827
DTSTAMP:20260420T134606
CREATED:20220721T181527Z
LAST-MODIFIED:20220721T181527Z
UID:10000212-1659139200-1661558399@fc.native-gains.com
SUMMARY:Drink & Dine
DESCRIPTION:North River Arts presents \nDRINK and DINE\nby Nancy Colella\nFeaturing Paintings of Restaurant and Bar Scenes (In recognition of all those in the hospitality industry who continue to be impacted by the effects of the pandemic) \n  \nOpening Reception \nThursday\, August 11th \n5;30pm – 7:30pm \n  \nDolphin Gallery  \nJuly 30th – August 26th
URL:https://fc.native-gains.com/event/drink-dine/
LOCATION:Hingham Library’s Dolphin Gallery\, 66 Leavitt Street\, Hingham\, MA\, United States
ATTACH;FMTTYPE=image/jpeg:https://fc.native-gains.com/wp-content/uploads/2022/07/Late-Party.jpeg
END:VEVENT
BEGIN:VEVENT
DTSTART;TZID=America/New_York:20220702T000000
DTEND;TZID=America/New_York:20220813T235959
DTSTAMP:20260420T134606
CREATED:20220706T154009Z
LAST-MODIFIED:20220706T154009Z
UID:10000538-1656720000-1660435199@fc.native-gains.com
SUMMARY:"Inspirations"
DESCRIPTION:North River Arts Society Presents \nInspirations\nWorks by \nLinda Mehl Bornstein and \nBetty Edwards Tufankjian \n  \nJuly 2nd to August 13th\, 2022 \nReception: \nJuly 8th\, 2022 \n5:30 – 7:30 p.m. \nat the \nThe Horan Gallery \nVentress Memorial Library \n#15 Library Plaza \n1837 Ocean Street/Route 139 \nMarshfield\, MA 02050 \nNorthriver.org
URL:https://fc.native-gains.com/event/inspirations-2/
LOCATION:Ventress Memorial Library\, 1837 Ocean Street/route 139\, Marshfield\, 02050\, United States
ATTACH;FMTTYPE=image/jpeg:https://fc.native-gains.com/wp-content/uploads/2022/07/BornsteinTufankjian_July2022_Poster-01.jpeg
END:VEVENT
BEGIN:VEVENT
DTSTART;VALUE=DATE:20220702
DTEND;VALUE=DATE:20220814
DTSTAMP:20260420T134606
CREATED:20220706T154009Z
LAST-MODIFIED:20220706T154009Z
UID:10000210-1656720000-1660435199@fc.native-gains.com
SUMMARY:"Inspirations"
DESCRIPTION:North River Arts Society Presents \nInspirations\nWorks by \nLinda Mehl Bornstein and \nBetty Edwards Tufankjian \n  \nJuly 2nd to August 13th\, 2022 \nReception: \nJuly 8th\, 2022 \n5:30 – 7:30 p.m. \nat the \nThe Horan Gallery \nVentress Memorial Library \n#15 Library Plaza \n1837 Ocean Street/Route 139 \nMarshfield\, MA 02050 \nNorthriver.org
URL:https://fc.native-gains.com/event/inspirations/
LOCATION:Ventress Memorial Library\, 1837 Ocean Street/route 139\, Marshfield\, 02050\, United States
ATTACH;FMTTYPE=image/jpeg:https://fc.native-gains.com/wp-content/uploads/2022/07/BornsteinTufankjian_July2022_Poster-01.jpeg
END:VEVENT
END:VCALENDAR